BEGIN:VCALENDAR
VERSION:2.0
CALSCALE:GREGORIAN
METHOD:PUBLISH
PRODID:-//Fastmail/2020.5/EN
X-APPLE-CALENDAR-COLOR:#3A429C
X-WR-CALNAME:Kristof Beyls LLVM office hours
X-WR-TIMEZONE:Europe/Brussels
BEGIN:VTIMEZONE
TZID:Europe/Brussels
BEGIN:STANDARD
DTSTART:19700101T000000
RRULE:FREQ=YEARLY;BYMONTH=10;BYDAY=-1SU
TZOFFSETFROM:+0200
TZOFFSETTO:+0100
END:STANDARD
BEGIN:DAYLIGHT
DTSTART:19700101T000000
RRULE:FREQ=YEARLY;BYMONTH=3;BYDAY=-1SU
TZOFFSETFROM:+0100
TZOFFSETTO:+0200
END:DAYLIGHT
END:VTIMEZONE
BEGIN:VEVENT
ATTENDEE;CN=Kristof Beyls;PARTSTAT=ACCEPTED:MAILTO:kristof@kriel.be
ATTENDEE;PARTSTAT=NEEDS-ACTION;RSVP=TRUE:MAILTO:calendar@llvm.org
DESCRIPTION:Topics I can talk about: General questions on how to contribute
  to LLVM\; organizing meetups\;submitting talks\; and other general LLVM-r
 elated topics. Arm/AArch64 codegen. LLVM security group. LLVM Office Hours
 . I tend to know a little bit about most things LLVM. security hardening. 
 performance optimization.\n\nLanguages I speak: English\, Dutch\, Flemish.
 \n\n\ndiscord-bot-event-type: office-hours\n\ndiscord-bot-mention: @kbeyls
 \n\ndiscord-bot-channels-to-mention: #beginners\, #office-hours\n\ndiscord
 -bot-reminder-time-before-start: 10\n\ndiscord-bot-message: in-scope: Arm/
 AArch64\, security group\, office hours\, and anything general
DTEND;TZID=Europe/Brussels:20260211T100000
DTSTAMP:20260225T082646Z
DTSTART;TZID=Europe/Brussels:20260211T093000
LOCATION:https://meet.jit.si/KristofBeylsLLVMOfficeHour
ORGANIZER;CN=Kristof Beyls:MAILTO:kristof@kriel.be
RRULE:FREQ=MONTHLY;BYDAY=2WE
SEQUENCE:3
SUMMARY:Kristof Beyls LLVM office hours
TRANSP:OPAQUE
UID:0afdb53e-e06c-4a39-b9e1-81a9f2e4b4e2
END:VEVENT
BEGIN:VEVENT
ATTENDEE;PARTSTAT=NEEDS-ACTION;RSVP=TRUE:MAILTO:calendar@llvm.org
ATTENDEE;CN=Kristof Beyls;PARTSTAT=ACCEPTED:MAILTO:kristof@kriel.be
DESCRIPTION:Topics I can talk about: General questions on how to contribute
  to LLVM\; organizing meetups\;submitting talks\; and other general LLVM-r
 elated topics. Arm/AArch64 codegen. LLVM security group. LLVM Office Hours
 . I tend to know a little bit about most things LLVM. security hardening. 
 performance optimization.\n\nLanguages I speak: English\, Dutch\, Flemish.
 \n\ndiscord-bot-event-type: office-hours\n\ndiscord-bot-mention: @kbeyls\n
 \ndiscord-bot-channels-to-mention: #beginners\, #office-hours\n\ndiscord-b
 ot-reminder-time-before-start: 10\n\ndiscord-bot-message: in-scope: Arm/AA
 rch64\, security group\, office hours\, and anything general
DTEND;TZID=Europe/Brussels:20260128T100000
DTSTAMP:20260225T082618Z
DTSTART;TZID=Europe/Brussels:20260128T093000
LOCATION:https://meet.jit.si/KristofBeylsLLVMOfficeHour
ORGANIZER;CN=Kristof Beyls:MAILTO:kristof@kriel.be
RRULE:FREQ=MONTHLY;BYDAY=4WE
SEQUENCE:1
SUMMARY:Kristof Beyls LLVM office hours
TRANSP:OPAQUE
UID:676f840f-0950-4b53-aa7b-b7a0c864cad8
END:VEVENT
END:VCALENDAR
