BEGIN:VCALENDAR
VERSION:2.0
METHOD:REQUEST
PRODID:-//PYVOBJECT//NONSGML Version 1//EN
BEGIN:VTIMEZONE
TZID:America/Chicago
TZURL:http://tzurl.org/zoneinfo-outlook-global/America/Chicago
X-LIC-LOCATION:America/Chicago
BEGIN:DAYLIGHT
TZOFFSETFROM:-0600
TZOFFSETTO:-0500
TZNAME:CDT
DTSTART:19700308T020000
RRULE:FREQ=YEARLY;BYMONTH=3;BYDAY=2SU
END:DAYLIGHT
BEGIN:STANDARD
TZOFFSETFROM:-0500
TZOFFSETTO:-0600
TZNAME:CST
DTSTART:19701101T020000
RRULE:FREQ=YEARLY;BYMONTH=11;BYDAY=1SU
END:STANDARD
END:VTIMEZONE

BEGIN:VEVENT
UID:T0jKX_9Y2JgT9TZM@L536FvUJjGz3f8Z
DTSTART;TZID=America/Chicago:20201103T120000
DTEND;TZID=America/Chicago:20201103T130000
ATTENDEE;CUTYPE=INDIVIDUAL;ROLE=REQ-PARTICIPANT;PARTSTAT=NEEDS-ACTION;RSVP
 =TRUE:mailto:jdoerfert@anl.gov
CREATED:20201015T182730Z
DESCRIPTION:\nTo join the meeting on a computer or mobile phone: https://b
 luejeans.com/316886064/3617?src=calendarLink\n\n\n\nPhone Dial-in\n+1.312.
 216.0325 (US (Chicago))\n+1.408.740.7256 (US (San Jose))\n+1.866.226.4650 
 (US Toll Free)\nGlobal Numbers: https://www.bluejeans.com/premium-numbers\
 n\nMeeting ID: 316 886 064\nModerator Passcode: 3617\n\nRoom System\n199.4
 8.152.152 or bjn.vc\n\nMeeting ID: 316 886 064\nModerator Passcode : 3617\
 n\nWant to test your video connection?\nhttps://bluejeans.com/111\n\n
DTSTAMP:20201015T182730Z
LAST-MODIFIED:20201015T182730Z
LOCATION:https://bluejeans.com/316886064/3617?src=calendarLink
ORGANIZER:mailto:invite@bluejeans.com
RRULE:FREQ=WEEKLY;INTERVAL=4;BYDAY=TU;WKST=SU
SEQUENCE:0
STATUS:CONFIRMED
SUMMARY:LLVM Alias Analysis Technical Call
TRANSP:OPAQUE
END:VEVENT
END:VCALENDAR
