BEGIN:VCALENDAR
PRODID:-//Google Inc//Google Calendar 70.9054//EN
VERSION:2.0
CALSCALE:GREGORIAN
METHOD:PUBLISH
X-WR-CALNAME:3dgv.seminar@gmail.com
X-WR-TIMEZONE:America/Vancouver
BEGIN:VEVENT
DTSTART:20201028T020000Z
DTEND:20201028T030000Z
DTSTAMP:20260421T161349Z
UID:72k4c8e0a3vljmk7l49kukuakt@google.com
CREATED:20200809T192753Z
LAST-MODIFIED:20200821T225654Z
SEQUENCE:0
STATUS:CONFIRMED
SUMMARY:3DGV Seminar 9: Jiajun Wu
TRANSP:OPAQUE
END:VEVENT
BEGIN:VEVENT
DTSTART:20210519T180000Z
DTEND:20210519T190000Z
DTSTAMP:20260421T161349Z
UID:2mqpkqe3h7025ehiv2091asrqb@google.com
CREATED:20210518T194118Z
LAST-MODIFIED:20210518T194118Z
SEQUENCE:0
STATUS:CONFIRMED
SUMMARY:3DGV-3-2 Daniele Panozzo (NYU)
TRANSP:OPAQUE
END:VEVENT
BEGIN:VEVENT
DTSTART:20210407T180000Z
DTEND:20210407T193000Z
DTSTAMP:20260421T161349Z
UID:7miajp8kaq6tivcjdbhil3b7nd@google.com
CREATED:20210111T031216Z
LAST-MODIFIED:20210111T031236Z
SEQUENCE:0
STATUS:CONFIRMED
SUMMARY:3DGV-2-11 Shuran Song (Columbia)
TRANSP:OPAQUE
END:VEVENT
BEGIN:VEVENT
DTSTART:20210324T030000Z
DTEND:20210324T043000Z
DTSTAMP:20260421T161349Z
UID:32ah86dtt7pskvn0sh09kt5dfs@google.com
CREATED:20210111T031026Z
LAST-MODIFIED:20210111T031026Z
SEQUENCE:0
STATUS:CONFIRMED
SUMMARY:3DGV-2-09 Tat-Jun Chin (U Adelaide)
TRANSP:OPAQUE
END:VEVENT
BEGIN:VEVENT
DTSTART:20210421T100000Z
DTEND:20210421T113000Z
DTSTAMP:20260421T161349Z
UID:1s4n3fr0p0b23r4kpm36mc7p46@google.com
CREATED:20210111T031429Z
LAST-MODIFIED:20210111T031430Z
SEQUENCE:0
STATUS:CONFIRMED
SUMMARY:3DGV-2-13 Andreas Geiger (Tübingen/MPI)
TRANSP:OPAQUE
END:VEVENT
BEGIN:VEVENT
DTSTART:20201216T190000Z
DTEND:20201216T200000Z
DTSTAMP:20260421T161349Z
UID:4sb1dqt7l6prude5r6nlm6mt7o@google.com
CREATED:20200809T192939Z
LAST-MODIFIED:20200825T200410Z
SEQUENCE:1
STATUS:CONFIRMED
SUMMARY:3DGV Seminar 14
TRANSP:OPAQUE
END:VEVENT
BEGIN:VEVENT
DTSTART:20210217T190000Z
DTEND:20210217T203000Z
DTSTAMP:20260421T161349Z
UID:2p24i9q4hh1pl5np5padk974gi@google.com
CREATED:20210111T030732Z
LAST-MODIFIED:20210111T030732Z
SEQUENCE:0
STATUS:CONFIRMED
SUMMARY:3DGV-2-05 Daniel Ritchie (Brown)
TRANSP:OPAQUE
END:VEVENT
BEGIN:VEVENT
DTSTART:20200930T180000Z
DTEND:20200930T190000Z
DTSTAMP:20260421T161349Z
UID:79i9b7bq466051l8qf7i37sunp@google.com
CREATED:20200809T192633Z
LAST-MODIFIED:20200821T225449Z
SEQUENCE:0
STATUS:CONFIRMED
SUMMARY:3DGV Seminar 5: Tom Funkhouser
TRANSP:OPAQUE
END:VEVENT
BEGIN:VEVENT
DTSTART:20200916T020000Z
DTEND:20200916T030000Z
DTSTAMP:20260421T161349Z
UID:3jernj0er88rv23b7b2jnqf7s6@google.com
CREATED:20200809T192555Z
LAST-MODIFIED:20200821T225424Z
SEQUENCE:0
STATUS:CONFIRMED
SUMMARY:3DGV Seminar 3: Xin Tong
TRANSP:OPAQUE
END:VEVENT
BEGIN:VEVENT
DTSTART:20201103T110000Z
DTEND:20201103T120000Z
DTSTAMP:20260421T161349Z
UID:23deq60f928plgbtrns3iconro@google.com
CREATED:20200809T192809Z
LAST-MODIFIED:20200821T225712Z
SEQUENCE:1
STATUS:CONFIRMED
SUMMARY:3DGV Seminar 10: Olga Sorkine-Hornung
TRANSP:OPAQUE
END:VEVENT
BEGIN:VEVENT
DTSTART:20200909T180000Z
DTEND:20200909T190000Z
DTSTAMP:20260421T161349Z
UID:0jg43g6mfvqac5f7jm511rrv30@google.com
CREATED:20200809T192533Z
LAST-MODIFIED:20200821T225416Z
SEQUENCE:0
STATUS:CONFIRMED
SUMMARY:3DGV Seminar 2: Katerina Fragkiadaki
TRANSP:OPAQUE
END:VEVENT
BEGIN:VEVENT
DTSTART:20210210T110000Z
DTEND:20210210T123000Z
DTSTAMP:20260421T161349Z
UID:0eplrg41rs9m286q9cda0ofhga@google.com
CREATED:20210111T030702Z
LAST-MODIFIED:20210111T030702Z
SEQUENCE:0
STATUS:CONFIRMED
SUMMARY:3DGV-2-04 Siyu Tang (ETH)
TRANSP:OPAQUE
END:VEVENT
BEGIN:VEVENT
DTSTART:20200923T100000Z
DTEND:20200923T110000Z
DTSTAMP:20260421T161349Z
UID:51sfcvd75eboanlh673n4r9ui0@google.com
CREATED:20200809T192611Z
LAST-MODIFIED:20200821T225435Z
SEQUENCE:0
STATUS:CONFIRMED
SUMMARY:3DGV Seminar 4: Michael Bronstein
TRANSP:OPAQUE
END:VEVENT
BEGIN:VEVENT
DTSTART:20210414T030000Z
DTEND:20210414T043000Z
DTSTAMP:20260421T161349Z
UID:1u48c3l3mthkmlbam36fbh08cb@google.com
CREATED:20210111T031325Z
LAST-MODIFIED:20210111T031354Z
SEQUENCE:0
STATUS:CONFIRMED
SUMMARY:3DGV-2-12 Siddhartha Chaudhuri (IIT Bombay & Adobe)
TRANSP:OPAQUE
END:VEVENT
BEGIN:VEVENT
DTSTART:20200902T100000Z
DTEND:20200902T110000Z
DTSTAMP:20260421T161349Z
UID:7moc5m5nsh5rlt3tp70c6qs5vc@google.com
CREATED:20200809T192432Z
LAST-MODIFIED:20200821T225303Z
SEQUENCE:1
STATUS:CONFIRMED
SUMMARY:3DGV Seminar 1: Marc Pollefeys
TRANSP:OPAQUE
END:VEVENT
BEGIN:VEVENT
DTSTART:20201014T100000Z
DTEND:20201014T110000Z
DTSTAMP:20260421T161349Z
UID:6cpj00rsovvia6j1pii62q77i4@google.com
CREATED:20200809T192710Z
LAST-MODIFIED:20200825T200315Z
SEQUENCE:0
STATUS:CONFIRMED
SUMMARY:3DGV Seminar 7: Niloy Mitra
TRANSP:OPAQUE
END:VEVENT
BEGIN:VEVENT
DTSTART:20210310T190000Z
DTEND:20210310T203000Z
DTSTAMP:20260421T161349Z
UID:387s5ssvcn8s5p9hhf2fe54dtv@google.com
CREATED:20210111T030937Z
LAST-MODIFIED:20210111T030937Z
SEQUENCE:0
STATUS:CONFIRMED
SUMMARY:3DGV-2-08 Noah Snavely (Cornell & Google)
TRANSP:OPAQUE
END:VEVENT
BEGIN:VEVENT
DTSTART:20210113T103000Z
DTEND:20210113T120000Z
DTSTAMP:20260421T161349Z
UID:3qjcncjrhiqvvnvsr7bj6535q6@google.com
CREATED:20210111T030455Z
DESCRIPTION:<a href="https://youtu.be/ZhV1Tg_7gww?fbclid=IwAR2LeCjKhpKCJXmB
 Bg6NozQmlxB0r011nh5gp3N44NT0SnXbBzmX4b-q9dM">https://youtu.be/ZhV1Tg_7gww</
 a>&nbsp\;&nbsp\;
LAST-MODIFIED:20210112T074536Z
SEQUENCE:0
STATUS:CONFIRMED
SUMMARY:3DGV-2-01 Matthias Niessner (TUM)
TRANSP:OPAQUE
END:VEVENT
BEGIN:VEVENT
DTSTART:20210224T030000Z
DTEND:20210224T043000Z
DTSTAMP:20260421T161349Z
UID:5jk783pmv5hm788efv84kljp20@google.com
CREATED:20210111T030837Z
LAST-MODIFIED:20210111T030837Z
SEQUENCE:0
STATUS:CONFIRMED
SUMMARY:3DGV-2-06 Takeo Igarashi (U Tokyo)
TRANSP:OPAQUE
END:VEVENT
BEGIN:VEVENT
DTSTART:20210512T180000Z
DTEND:20210512T193000Z
DTSTAMP:20260421T161349Z
UID:2hu8t5cve0mi04iv8b599hp4q7@google.com
CREATED:20210518T193815Z
LAST-MODIFIED:20210518T193839Z
SEQUENCE:0
STATUS:CONFIRMED
SUMMARY:3DGV-3-1 Saurabh Gupta (UIUC) 
TRANSP:OPAQUE
END:VEVENT
BEGIN:VEVENT
DTSTART:20201007T020000Z
DTEND:20201007T030000Z
DTSTAMP:20260421T161349Z
UID:0dcb4rmcl6e7guvv4ak9t1c332@google.com
CREATED:20200809T192652Z
LAST-MODIFIED:20200821T225610Z
SEQUENCE:0
STATUS:CONFIRMED
SUMMARY:3DGV Seminar 6: Gim Hee Lee
TRANSP:OPAQUE
END:VEVENT
BEGIN:VEVENT
DTSTART:20210120T190000Z
DTEND:20210120T203000Z
DTSTAMP:20260421T161349Z
UID:2i7llm5je0o752009q7m9cifqh@google.com
CREATED:20210111T030613Z
DESCRIPTION:https://youtu.be/MArIHoX3jQ8
LAST-MODIFIED:20210119T101510Z
LOCATION:https://youtu.be/MArIHoX3jQ8
SEQUENCE:0
STATUS:CONFIRMED
SUMMARY:3DGV-2-02 Hao Su (UCSD)
TRANSP:OPAQUE
END:VEVENT
BEGIN:VEVENT
DTSTART:20210331T100000Z
DTEND:20210331T113000Z
DTSTAMP:20260421T161349Z
UID:03a985m28k9u99gfuo19s475r8@google.com
CREATED:20210111T031101Z
LAST-MODIFIED:20210111T031135Z
SEQUENCE:0
STATUS:CONFIRMED
SUMMARY:3DGV-2-10 Andrew Davison (ICL)
TRANSP:OPAQUE
END:VEVENT
BEGIN:VEVENT
DTSTART:20210203T030000Z
DTEND:20210203T043000Z
DTSTAMP:20260421T161349Z
UID:2hecdon7j3olus51phcv37rl4e@google.com
CREATED:20210201T081540Z
DESCRIPTION:https://youtu.be/mpVd2JxYS5Q
LAST-MODIFIED:20210201T081555Z
SEQUENCE:0
STATUS:CONFIRMED
SUMMARY: 3DGV-2-03 Liang Liu (USTC)
TRANSP:OPAQUE
END:VEVENT
BEGIN:VEVENT
DTSTART:20201118T190000Z
DTEND:20201118T200000Z
DTSTAMP:20260421T161349Z
UID:5h32u2c6osds15p4rg1tcn1blp@google.com
CREATED:20200809T192835Z
LAST-MODIFIED:20200825T200357Z
SEQUENCE:0
STATUS:CONFIRMED
SUMMARY:3DGV Seminar 11: David Fouhey
TRANSP:OPAQUE
END:VEVENT
BEGIN:VEVENT
DTSTART:20201021T180000Z
DTEND:20201021T190000Z
DTSTAMP:20260421T161349Z
UID:32pjlu1fsdijbi4ahboadcrru6@google.com
CREATED:20200809T192728Z
LAST-MODIFIED:20200821T225643Z
SEQUENCE:0
STATUS:CONFIRMED
SUMMARY:3DGV Seminar 8: Georgia Gkioxari
TRANSP:OPAQUE
END:VEVENT
BEGIN:VEVENT
DTSTART:20201125T020000Z
DTEND:20201125T030000Z
DTSTAMP:20260421T161349Z
UID:0p01tau36f5gu9latf7lh07kd6@google.com
CREATED:20200809T192853Z
LAST-MODIFIED:20200821T225726Z
SEQUENCE:1
STATUS:CONFIRMED
SUMMARY:3DGV Seminar 12: Hui Huang
TRANSP:OPAQUE
END:VEVENT
BEGIN:VEVENT
DTSTART:20201202T110000Z
DTEND:20201202T120000Z
DTSTAMP:20260421T161349Z
UID:6j2arm50j2sqhnmch3cp9l94j9@google.com
CREATED:20200809T192910Z
LAST-MODIFIED:20200821T225737Z
SEQUENCE:0
STATUS:CONFIRMED
SUMMARY:3DGV Seminar 13: Andrew Davison
TRANSP:OPAQUE
END:VEVENT
BEGIN:VEVENT
DTSTART:20210428T100000Z
DTEND:20210428T113000Z
DTSTAMP:20260421T161349Z
UID:2d551ttro4dkej2k69798h8hts@google.com
CREATED:20210518T193727Z
LAST-MODIFIED:20210518T193727Z
SEQUENCE:0
STATUS:CONFIRMED
SUMMARY:3DGV-2-14 Gül Varol (École des Ponts ParisTech )
TRANSP:OPAQUE
END:VEVENT
BEGIN:VEVENT
DTSTART:20210602T180000Z
DTEND:20210602T193000Z
DTSTAMP:20260421T161349Z
UID:7ofq8bj9n1h0n4sthg5cpiriph@google.com
CREATED:20210518T194151Z
LAST-MODIFIED:20210518T194200Z
SEQUENCE:0
STATUS:CONFIRMED
SUMMARY:3DGV-3-3 Qixing Huang (UT Austin)
TRANSP:OPAQUE
END:VEVENT
END:VCALENDAR
