BEGIN:VCALENDAR
PRODID:-//Google Inc//Google Calendar 70.9054//EN
VERSION:2.0
CALSCALE:GREGORIAN
METHOD:PUBLISH
X-WR-CALNAME:Xarray Developers
X-WR-TIMEZONE:America/Los_Angeles
BEGIN:VTIMEZONE
TZID:America/Los_Angeles
X-LIC-LOCATION:America/Los_Angeles
BEGIN:DAYLIGHT
TZOFFSETFROM:-0800
TZOFFSETTO:-0700
TZNAME:PDT
DTSTART:19700308T020000
RRULE:FREQ=YEARLY;BYMONTH=3;BYDAY=2SU
END:DAYLIGHT
BEGIN:STANDARD
TZOFFSETFROM:-0700
TZOFFSETTO:-0800
TZNAME:PST
DTSTART:19701101T020000
RRULE:FREQ=YEARLY;BYMONTH=11;BYDAY=1SU
END:STANDARD
END:VTIMEZONE
BEGIN:VEVENT
DTSTART;TZID=America/Los_Angeles:20230621T083000
DTEND;TZID=America/Los_Angeles:20230621T090000
RRULE:FREQ=WEEKLY;WKST=SU;INTERVAL=2;BYDAY=WE
DTSTAMP:20260424T171800Z
UID:0r6hfh63tn9dtlv1phqbfah232@google.com
CREATED:20230621T155756Z
DESCRIPTION:<p>Notes doc: <a href="https://hackmd.io/fx7KNO2vTKutZeUysE-SIA
 ?both">https://hackmd.io/fx7KNO2vTKutZeUysE-SIA?both</a></p>
LAST-MODIFIED:20260223T183149Z
LOCATION:https://us02web.zoom.us/j/87503265754?pwd=cEFJMzFqdTFaS3BMdkx4UkNZ
 Rk1QZz09
SEQUENCE:1
STATUS:CONFIRMED
SUMMARY:Bi-weekly Xarray Developers Meeting
TRANSP:OPAQUE
END:VEVENT
BEGIN:VEVENT
DTSTART;TZID=America/Los_Angeles:20251008T083000
DTEND;TZID=America/Los_Angeles:20251008T090000
DTSTAMP:20260424T171800Z
UID:0r6hfh63tn9dtlv1phqbfah232@google.com
RECURRENCE-ID;TZID=America/Los_Angeles:20251008T083000
CREATED:20230621T155756Z
DESCRIPTION:<p>Notes doc: <a href="https://hackmd.io/fx7KNO2vTKutZeUysE-SIA
 ?both">https://hackmd.io/fx7KNO2vTKutZeUysE-SIA?both</a></p>
LAST-MODIFIED:20260223T183149Z
LOCATION:https://us02web.zoom.us/j/87503265754?pwd=cEFJMzFqdTFaS3BMdkx4UkNZ
 Rk1QZz09
SEQUENCE:1
STATUS:CONFIRMED
SUMMARY:Bi-weekly Xarray Developers Meeting
TRANSP:OPAQUE
END:VEVENT
BEGIN:VEVENT
DTSTART;TZID=America/Los_Angeles:20240703T083000
DTEND;TZID=America/Los_Angeles:20240703T090000
DTSTAMP:20260424T171800Z
UID:0r6hfh63tn9dtlv1phqbfah232@google.com
RECURRENCE-ID;TZID=America/Los_Angeles:20240703T083000
CREATED:20230621T155756Z
DESCRIPTION:<p>Notes doc: <a href="https://hackmd.io/fx7KNO2vTKutZeUysE-SIA
 ?both">https://hackmd.io/fx7KNO2vTKutZeUysE-SIA?both</a></p>
LAST-MODIFIED:20260223T183149Z
LOCATION:https://us02web.zoom.us/j/87503265754?pwd=cEFJMzFqdTFaS3BMdkx4UkNZ
 Rk1QZz09
SEQUENCE:1
STATUS:CONFIRMED
SUMMARY:Bi-weekly Xarray Developers Meeting
TRANSP:OPAQUE
END:VEVENT
END:VCALENDAR
