BEGIN:VCALENDAR
PRODID:-//Google Inc//Google Calendar 70.9054//EN
VERSION:2.0
CALSCALE:GREGORIAN
METHOD:PUBLISH
X-WR-CALNAME:LLVM Meetings
X-WR-TIMEZONE:Europe/London
BEGIN:VTIMEZONE
TZID:Europe/London
X-LIC-LOCATION:Europe/London
BEGIN:DAYLIGHT
TZOFFSETFROM:+0000
TZOFFSETTO:+0100
TZNAME:GMT+1
DTSTART:19700329T010000
RRULE:FREQ=YEARLY;BYMONTH=3;BYDAY=-1SU
END:DAYLIGHT
BEGIN:STANDARD
TZOFFSETFROM:+0100
TZOFFSETTO:+0000
TZNAME:GMT
DTSTART:19701025T020000
RRULE:FREQ=YEARLY;BYMONTH=10;BYDAY=-1SU
END:STANDARD
END:VTIMEZONE
BEGIN:VEVENT
DTSTART;TZID=Europe/London:20210316T170000
DTEND;TZID=Europe/London:20210316T180000
RRULE:FREQ=MONTHLY;BYDAY=3TU
DTSTAMP:20260424T094800Z
UID:6nev4p06coqq5jc116h62936h7@google.com
CREATED:20210319T092024Z
DESCRIPTION:<p>This meeting is organized monthly on each third Tuesday of t
 he month.</p><p>We have a landing page that shows all previous- and upcomin
 g meetings:<br></p><p>&nbsp\; https://docs.google.com/document/d/1UPH2Hzou5
 RgGT8XfO39OmVXKEibWPfdYLELSaHr3xzo/edit?usp=sharing<br></p><p><br></p><p>--
 -------<br></p><p>Join Zoom Meeting<br></p><p>&nbsp\; https://armltd.zoom.u
 s/j/99475025938?pwd=U2FMWWJsZVZTSU83YkE5TmlFV2dLZz09<br></p><p><br></p><p>D
 ial by your location</p><p>&nbsp\; &nbsp\; &nbsp\; &nbsp\; +44 203 481 5240
  United Kingdom</p><p>&nbsp\; &nbsp\; &nbsp\; &nbsp\; +1 646 518 9805 US (N
 ew York)</p><p>&nbsp\; &nbsp\; &nbsp\; &nbsp\; +1 346 248 7799 US (Houston)
 </p><p>&nbsp\; &nbsp\; &nbsp\; &nbsp\; +1 408 638 0968 US (San Jose)</p><p>
 &nbsp\; &nbsp\; &nbsp\; &nbsp\; +91 406 480 2722 India</p><p>&nbsp\; &nbsp\
 ; &nbsp\; &nbsp\; +91 806 480 2722 India</p><p>&nbsp\; &nbsp\; &nbsp\; &nbs
 p\; +91 116 480 2722 India</p><p>&nbsp\; &nbsp\; &nbsp\; &nbsp\; +91 224 87
 9 8012 India</p><p>&nbsp\; &nbsp\; &nbsp\; &nbsp\; +852 5803 3730 Hong Kong
  SAR</p><p>&nbsp\; &nbsp\; &nbsp\; &nbsp\; +46 8 4468 2488 Sweden</p><p>&nb
 sp\; &nbsp\; &nbsp\; &nbsp\; +47 2396 0588 Norway</p><p>&nbsp\; &nbsp\; &nb
 sp\; &nbsp\; +972 3 978 6688 Israel</p><p>&nbsp\; &nbsp\; &nbsp\; &nbsp\; +
 353 1 536 9320 Ireland</p><p>&nbsp\; &nbsp\; &nbsp\; &nbsp\; +36 1 408 8456
  Hungary</p><p>&nbsp\; &nbsp\; &nbsp\; &nbsp\; +49 30 5679 5800 Germany</p>
 <p>&nbsp\; &nbsp\; &nbsp\; &nbsp\; +33 1 7037 2246 France</p><p>&nbsp\; &nb
 sp\; &nbsp\; &nbsp\; +358 3 4109 2129 Finland</p><p>&nbsp\; &nbsp\; &nbsp\;
  &nbsp\; +45 32 70 12 06 Denmark</p><p>&nbsp\; &nbsp\; &nbsp\; &nbsp\; +1 4
 38 809 7799 Canada</p><p>&nbsp\; &nbsp\; &nbsp\; &nbsp\; +82 2 6022 2322 Ko
 rea\, Republic of</p><p>&nbsp\; &nbsp\; &nbsp\; &nbsp\; +65 3158 7288 Singa
 pore</p><p>&nbsp\; &nbsp\; &nbsp\; &nbsp\; +27 87 550 3946 South Africa</p>
 <p>&nbsp\; &nbsp\; &nbsp\; &nbsp\; +32 1579 5132 Belgium</p><p>&nbsp\; &nbs
 p\; &nbsp\; &nbsp\; +48 22 307 3488 Poland</p><p>&nbsp\; &nbsp\; &nbsp\; &n
 bsp\; +386 1600 3102 Slovenia</p><p>&nbsp\; &nbsp\; &nbsp\; &nbsp\; +60 3 3
 099 2229 Malaysia</p><p>&nbsp\; &nbsp\; &nbsp\; &nbsp\; +886 (2) 7741 7473 
 Taiwan</p><p><br></p><p>Meeting ID: 994 7502 5938</p><p>Passcode: 494587</p
 ><p>Find your local number: https://armltd.zoom.us/u/aeuAkL1lKE</p>
LAST-MODIFIED:20210319T092024Z
SEQUENCE:0
STATUS:CONFIRMED
SUMMARY:LLVM SVE2 / Scalable Vector Sync-up Meeting
TRANSP:OPAQUE
END:VEVENT
END:VCALENDAR
