BEGIN:VCALENDAR
VERSION:2.0
PRODID:-//CERN//INDICO//EN
BEGIN:VEVENT
SUMMARY:OCM Checkpoint Meeting
DTSTART:20260414T090000Z
DTEND:20260414T100000Z
DTSTAMP:20260420T053845Z
UID:indico-event-1630795@indico.cern.ch
DESCRIPTION:This is the regular checkpoint meeting of the Open Cloud Mesh 
 protocol and collaboration\, hosted within CS3 as well as IETF.\nThe meeti
 ngs take place on Zoom. The work is coordinated over an IETF mailing list
  and a Matrix chat.\n\nhttps://indico.cern.ch/event/1630795/
LOCATION:Online
URL:https://indico.cern.ch/event/1630795/
END:VEVENT
END:VCALENDAR
