BEGIN:VCALENDAR
PRODID:-//Google Inc//Google Calendar 70.9054//EN
VERSION:2.0
CALSCALE:GREGORIAN
METHOD:PUBLISH
X-WR-CALNAME:public
X-WR-TIMEZONE:America/Los_Angeles
BEGIN:VTIMEZONE
TZID:America/Los_Angeles
X-LIC-LOCATION:America/Los_Angeles
BEGIN:DAYLIGHT
TZOFFSETFROM:-0800
TZOFFSETTO:-0700
TZNAME:PDT
DTSTART:19700308T020000
RRULE:FREQ=YEARLY;BYMONTH=3;BYDAY=2SU
END:DAYLIGHT
BEGIN:STANDARD
TZOFFSETFROM:-0700
TZOFFSETTO:-0800
TZNAME:PST
DTSTART:19701101T020000
RRULE:FREQ=YEARLY;BYMONTH=11;BYDAY=1SU
END:STANDARD
END:VTIMEZONE
BEGIN:VEVENT
DTSTART;TZID=America/Los_Angeles:20221102T080000
DTEND;TZID=America/Los_Angeles:20221102T083000
RRULE:FREQ=MONTHLY;BYDAY=1WE
EXDATE;TZID=America/Los_Angeles:20240103T080000
EXDATE;TZID=America/Los_Angeles:20250604T080000
EXDATE;TZID=America/Los_Angeles:20250806T080000
EXDATE;TZID=America/Los_Angeles:20250903T080000
EXDATE;TZID=America/Los_Angeles:20260204T080000
DTSTAMP:20260425T012352Z
UID:1vsg8mfodr6lkt232mils6t0f8@google.com
X-GOOGLE-CONFERENCE:https://meet.google.com/cbz-grrp-obs
CREATED:20221019T165256Z
DESCRIPTION:This event is a meetup for all LLVM developers.<br><br>Attendee
 s are required to adhere to the LLVM Code of Conduct<br>(<a href="https://w
 ww.google.com/url?q=https://llvm.org/docs/CodeOfConduct.html).&amp\;sa=D&am
 p\;source=calendar&amp\;usd=2&amp\;usg=AOvVaw0NMBmKhb8JJC_VO1ELohQz" target
 ="_blank">https://llvm.org/docs/CodeOfConduct.html).</a> For any Code of Co
 nduct reports\,<br>please contact the organizers\, and also email <a href="
 mailto:conduct@llvm.org" target="_blank">conduct@llvm.org</a>.<br><br>Organ
 izer(s): Quentin Colombet (quentin dot colombet at gmail dot com)<br><u></u
 ><br><u></u><br><u></u>Topics include but are not limited to general questi
 ons on:<br>- How to contribute to LLVM/MLIR.<br>- Instruction selection (Gl
 obalISel/<span>SDISel)</span><u></u><br><u></u>- Codegen<br>- Machine IR<br
 >- Register allocation<br>- LLVM IR<br>- LLVM backends (in particular AArch
 64\, ARM\, X86)<br>- LLVM optimizations<br><br>And to some extend:<br>- Mac
 hine Scheduler<br>- MCA<br>- RISC-V<u></u>\n\nJoin with Google Meet: https:
 //meet.google.com/cbz-grrp-obs\n\nLearn more about Meet at: https://support
 .google.com/a/users/answer/9282720
LAST-MODIFIED:20260203T050746Z
SEQUENCE:0
STATUS:CONFIRMED
SUMMARY:LLVM Office Hour w/ Quentin
TRANSP:OPAQUE
END:VEVENT
END:VCALENDAR
