BEGIN:VCALENDAR
PRODID:-//Google Inc//Google Calendar 70.9054//EN
VERSION:2.0
CALSCALE:GREGORIAN
METHOD:PUBLISH
X-WR-CALNAME:MemorySSA in LLVM
X-WR-TIMEZONE:America/Los_Angeles
BEGIN:VTIMEZONE
TZID:America/Los_Angeles
X-LIC-LOCATION:America/Los_Angeles
BEGIN:DAYLIGHT
TZOFFSETFROM:-0800
TZOFFSETTO:-0700
TZNAME:PDT
DTSTART:19700308T020000
RRULE:FREQ=YEARLY;BYMONTH=3;BYDAY=2SU
END:DAYLIGHT
BEGIN:STANDARD
TZOFFSETFROM:-0700
TZOFFSETTO:-0800
TZNAME:PST
DTSTART:19701101T020000
RRULE:FREQ=YEARLY;BYMONTH=11;BYDAY=1SU
END:STANDARD
END:VTIMEZONE
BEGIN:VEVENT
DTSTART;TZID=America/Los_Angeles:20251201T103000
DTEND;TZID=America/Los_Angeles:20251201T110000
DTSTAMP:20260424T090522Z
UID:r4hh3qh70b3nba0uge5c3lfeeq_R20231002T173000@google.com
X-GOOGLE-CONFERENCE:https://meet.google.com/rrj-ybdo-kub
RECURRENCE-ID;TZID=America/Los_Angeles:20251201T103000
CLASS:PUBLIC
CREATED:20201009T000444Z
DESCRIPTION:<a href="https://docs.google.com/document/d/1-uEEZfmRdPThZlctOq
 9eXlmUaSSAAi8oKxhrPY_lpjk/edit#heading=h.nhty409us69h" id="ow647" __is_owne
 r="true">Meeting doc</a>\n\nJoin with Google Meet: https://meet.google.com/
 rrj-ybdo-kub\nOr dial: (US) +1 607-414-3023 PIN: 436105282#\nMore phone num
 bers: https://tel.meet/rrj-ybdo-kub?pin=1569496914393&hs=7\n\nLearn more ab
 out Meet at: https://support.google.com/a/users/answer/9282720
LAST-MODIFIED:20260413T101310Z
SEQUENCE:7
STATUS:CONFIRMED
SUMMARY:MemorySSA in LLVM - Open Source Meeting
TRANSP:OPAQUE
END:VEVENT
BEGIN:VEVENT
DTSTART;TZID=America/Los_Angeles:20230206T103000
DTEND;TZID=America/Los_Angeles:20230206T110000
DTSTAMP:20260424T090522Z
UID:r4hh3qh70b3nba0uge5c3lfeeq_R20230206T183000@google.com
X-GOOGLE-CONFERENCE:https://meet.google.com/rrj-ybdo-kub
RECURRENCE-ID;TZID=America/Los_Angeles:20230206T103000
CLASS:PUBLIC
CREATED:20201009T000444Z
DESCRIPTION:<a href="https://docs.google.com/document/d/1-uEEZfmRdPThZlctOq
 9eXlmUaSSAAi8oKxhrPY_lpjk/edit#heading=h.nhty409us69h" id="ow647" __is_owne
 r="true">Meeting doc</a>\n\nJoin with Google Meet: https://meet.google.com/
 rrj-ybdo-kub\nOr dial: (US) +1 607-414-3023 PIN: 436105282#\nMore phone num
 bers: https://tel.meet/rrj-ybdo-kub?pin=1569496914393&hs=7\n\nLearn more ab
 out Meet at: https://support.google.com/a/users/answer/9282720
LAST-MODIFIED:20260413T101310Z
SEQUENCE:7
STATUS:CONFIRMED
SUMMARY:MemorySSA in LLVM - Open Source Meeting
TRANSP:OPAQUE
END:VEVENT
BEGIN:VEVENT
DTSTART;TZID=America/Los_Angeles:20230605T103000
DTEND;TZID=America/Los_Angeles:20230605T110000
RRULE:FREQ=MONTHLY;UNTIL=20231002T065959Z;INTERVAL=2;BYDAY=1MO
DTSTAMP:20260424T090522Z
UID:r4hh3qh70b3nba0uge5c3lfeeq_R20230605T173000@google.com
X-GOOGLE-CONFERENCE:https://meet.google.com/rrj-ybdo-kub
CLASS:PUBLIC
CREATED:20201009T000444Z
DESCRIPTION:<a href="https://docs.google.com/document/d/1-uEEZfmRdPThZlctOq
 9eXlmUaSSAAi8oKxhrPY_lpjk/edit#heading=h.nhty409us69h" id="ow647" __is_owne
 r="true">Meeting doc</a>\n\nJoin with Google Meet: https://meet.google.com/
 rrj-ybdo-kub\nOr dial: (US) +1 607-414-3023 PIN: 436105282#\nMore phone num
 bers: https://tel.meet/rrj-ybdo-kub?pin=1569496914393&hs=7\n\nLearn more ab
 out Meet at: https://support.google.com/a/users/answer/9282720
LAST-MODIFIED:20260413T101310Z
SEQUENCE:7
STATUS:CONFIRMED
SUMMARY:MemorySSA in LLVM - Open Source Meeting
TRANSP:OPAQUE
END:VEVENT
BEGIN:VEVENT
DTSTART;TZID=America/Los_Angeles:20230206T103000
DTEND;TZID=America/Los_Angeles:20230206T110000
RRULE:FREQ=MONTHLY;UNTIL=20230605T065959Z;INTERVAL=2;BYDAY=1MO
DTSTAMP:20260424T090522Z
UID:r4hh3qh70b3nba0uge5c3lfeeq_R20230206T183000@google.com
X-GOOGLE-CONFERENCE:https://meet.google.com/rrj-ybdo-kub
CLASS:PUBLIC
CREATED:20201009T000444Z
DESCRIPTION:<a href="https://docs.google.com/document/d/1-uEEZfmRdPThZlctOq
 9eXlmUaSSAAi8oKxhrPY_lpjk/edit#heading=h.nhty409us69h" id="ow647" __is_owne
 r="true">Meeting doc</a>\n\nJoin with Google Meet: https://meet.google.com/
 rrj-ybdo-kub\nOr dial: (US) +1 607-414-3023 PIN: 436105282#\nMore phone num
 bers: https://tel.meet/rrj-ybdo-kub?pin=1569496914393&hs=7\n\nLearn more ab
 out Meet at: https://support.google.com/a/users/answer/9282720
LAST-MODIFIED:20260413T101310Z
SEQUENCE:7
STATUS:CONFIRMED
SUMMARY:MemorySSA in LLVM - Open Source Meeting
TRANSP:OPAQUE
END:VEVENT
BEGIN:VEVENT
DTSTART;TZID=America/Los_Angeles:20211004T103000
DTEND;TZID=America/Los_Angeles:20211004T110000
RRULE:FREQ=MONTHLY;UNTIL=20221205T075959Z;INTERVAL=2;BYDAY=1MO
DTSTAMP:20260424T090522Z
UID:r4hh3qh70b3nba0uge5c3lfeeq_R20211004T173000@google.com
X-GOOGLE-CONFERENCE:https://meet.google.com/rrj-ybdo-kub
CLASS:PUBLIC
CREATED:20201009T000444Z
DESCRIPTION:<a href="https://docs.google.com/document/d/1-uEEZfmRdPThZlctOq
 9eXlmUaSSAAi8oKxhrPY_lpjk/edit#heading=h.nhty409us69h" id="ow647" __is_owne
 r="true">Meeting doc</a>\n\nJoin with Google Meet: https://meet.google.com/
 rrj-ybdo-kub\nOr dial: (US) +1 607-414-3023 PIN: 436105282#\nMore phone num
 bers: https://tel.meet/rrj-ybdo-kub?pin=1569496914393&hs=7\n\nLearn more ab
 out Meet at: https://support.google.com/a/users/answer/9282720
LAST-MODIFIED:20260413T101310Z
SEQUENCE:7
STATUS:CONFIRMED
SUMMARY:MemorySSA in LLVM - Open Source Meeting
TRANSP:OPAQUE
END:VEVENT
BEGIN:VEVENT
DTSTART;TZID=America/Los_Angeles:20201019T103000
DTEND;TZID=America/Los_Angeles:20201019T110000
RRULE:FREQ=WEEKLY;WKST=MO;UNTIL=20210531T065959Z;INTERVAL=4;BYDAY=MO
DTSTAMP:20260424T090522Z
UID:766dc75nu5tp9eshkt466c9vd7@google.com
X-GOOGLE-CONFERENCE:https://meet.google.com/rrj-ybdo-kub
CREATED:20201009T000444Z
DESCRIPTION:Join with Google Meet: https://meet.google.com/rrj-ybdo-kub\nOr
  dial: (US) +1 607-414-3023 PIN: 436105282#\nMore phone numbers: https://te
 l.meet/rrj-ybdo-kub?pin=1569496914393&hs=7\n\nLearn more about Meet at: htt
 ps://support.google.com/a/users/answer/9282720
LAST-MODIFIED:20221130T165353Z
SEQUENCE:3
STATUS:CONFIRMED
SUMMARY:MemorySSA - Open Source Meeting
TRANSP:OPAQUE
END:VEVENT
BEGIN:VEVENT
DTSTART;TZID=America/Los_Angeles:20210607T103000
DTEND;TZID=America/Los_Angeles:20210607T110000
RRULE:FREQ=MONTHLY;UNTIL=20210802T065959Z;BYDAY=1MO
EXDATE;TZID=America/Los_Angeles:20210607T103000
DTSTAMP:20260424T090522Z
UID:p0svdlua1k4dl92foar1tlll15@google.com
X-GOOGLE-CONFERENCE:https://meet.google.com/rrj-ybdo-kub
CLASS:PUBLIC
CREATED:20201009T000444Z
DESCRIPTION:Join with Google Meet: https://meet.google.com/rrj-ybdo-kub\nOr
  dial: (US) +1 607-414-3023 PIN: 436105282#\nMore phone numbers: https://te
 l.meet/rrj-ybdo-kub?pin=1569496914393&hs=7\n\nLearn more about Meet at: htt
 ps://support.google.com/a/users/answer/9282720
LAST-MODIFIED:20221130T165353Z
SEQUENCE:4
STATUS:CONFIRMED
SUMMARY:MemorySSA in LLVM - Open Source Meeting
TRANSP:OPAQUE
END:VEVENT
BEGIN:VEVENT
DTSTART;TZID=America/Los_Angeles:20221205T103000
DTEND;TZID=America/Los_Angeles:20221205T110000
RRULE:FREQ=MONTHLY;UNTIL=20230206T075959Z;INTERVAL=2;BYDAY=1MO
DTSTAMP:20260424T090522Z
UID:r4hh3qh70b3nba0uge5c3lfeeq_R20221205T183000@google.com
X-GOOGLE-CONFERENCE:https://meet.google.com/rrj-ybdo-kub
CLASS:PUBLIC
CREATED:20201009T000444Z
DESCRIPTION:<a href="https://docs.google.com/document/d/1-uEEZfmRdPThZlctOq
 9eXlmUaSSAAi8oKxhrPY_lpjk/edit#heading=h.nhty409us69h" id="ow647" __is_owne
 r="true">Meeting doc</a>\n\nJoin with Google Meet: https://meet.google.com/
 rrj-ybdo-kub\nOr dial: (US) +1 607-414-3023 PIN: 436105282#\nMore phone num
 bers: https://tel.meet/rrj-ybdo-kub?pin=1569496914393&hs=7\n\nLearn more ab
 out Meet at: https://support.google.com/a/users/answer/9282720
LAST-MODIFIED:20260413T101310Z
SEQUENCE:7
STATUS:CONFIRMED
SUMMARY:MemorySSA in LLVM - Open Source Meeting
TRANSP:OPAQUE
END:VEVENT
BEGIN:VEVENT
DTSTART;TZID=America/Los_Angeles:20220404T103000
DTEND;TZID=America/Los_Angeles:20220404T110000
DTSTAMP:20260424T090522Z
UID:r4hh3qh70b3nba0uge5c3lfeeq_R20211004T173000@google.com
X-GOOGLE-CONFERENCE:https://meet.google.com/rrj-ybdo-kub
RECURRENCE-ID;TZID=America/Los_Angeles:20220404T103000
CLASS:PUBLIC
CREATED:20201009T000444Z
DESCRIPTION:<a href="https://docs.google.com/document/d/1-uEEZfmRdPThZlctOq
 9eXlmUaSSAAi8oKxhrPY_lpjk/edit#heading=h.nhty409us69h" id="ow647" __is_owne
 r="true">Meeting doc</a>\n\nJoin with Google Meet: https://meet.google.com/
 rrj-ybdo-kub\nOr dial: (US) +1 607-414-3023 PIN: 436105282#\nMore phone num
 bers: https://tel.meet/rrj-ybdo-kub?pin=1569496914393&hs=7\n\nLearn more ab
 out Meet at: https://support.google.com/a/users/answer/9282720
LAST-MODIFIED:20260413T101310Z
SEQUENCE:7
STATUS:CONFIRMED
SUMMARY:MemorySSA in LLVM - Open Source Meeting
TRANSP:OPAQUE
END:VEVENT
BEGIN:VEVENT
DTSTART;TZID=America/Los_Angeles:20210628T103000
DTEND;TZID=America/Los_Angeles:20210628T110000
DTSTAMP:20260424T090522Z
UID:p0svdlua1k4dl92foar1tlll15@google.com
X-GOOGLE-CONFERENCE:https://meet.google.com/rrj-ybdo-kub
RECURRENCE-ID;TZID=America/Los_Angeles:20210705T103000
CLASS:PUBLIC
CREATED:20201009T000444Z
DESCRIPTION:Join with Google Meet: https://meet.google.com/rrj-ybdo-kub\nOr
  dial: (US) +1 607-414-3023 PIN: 436105282#\nMore phone numbers: https://te
 l.meet/rrj-ybdo-kub?pin=1569496914393&hs=7\n\nLearn more about Meet at: htt
 ps://support.google.com/a/users/answer/9282720
LAST-MODIFIED:20210714T172638Z
SEQUENCE:5
STATUS:CONFIRMED
SUMMARY:MemorySSA in LLVM - Open Source Meeting
TRANSP:OPAQUE
END:VEVENT
BEGIN:VEVENT
DTSTART;TZID=America/Los_Angeles:20220214T103000
DTEND;TZID=America/Los_Angeles:20220214T110000
DTSTAMP:20260424T090522Z
UID:r4hh3qh70b3nba0uge5c3lfeeq_R20211004T173000@google.com
X-GOOGLE-CONFERENCE:https://meet.google.com/rrj-ybdo-kub
RECURRENCE-ID;TZID=America/Los_Angeles:20220207T103000
CLASS:PUBLIC
CREATED:20201009T000444Z
DESCRIPTION:<a href="https://docs.google.com/document/d/1-uEEZfmRdPThZlctOq
 9eXlmUaSSAAi8oKxhrPY_lpjk/edit#heading=h.nhty409us69h" id="ow647" __is_owne
 r="true">Meeting doc</a>\n\nJoin with Google Meet: https://meet.google.com/
 rrj-ybdo-kub\nOr dial: (US) +1 607-414-3023 PIN: 436105282#\nMore phone num
 bers: https://tel.meet/rrj-ybdo-kub?pin=1569496914393&hs=7\n\nLearn more ab
 out Meet at: https://support.google.com/a/users/answer/9282720
LAST-MODIFIED:20260413T101310Z
SEQUENCE:8
STATUS:CONFIRMED
SUMMARY:MemorySSA in LLVM - Open Source Meeting
TRANSP:OPAQUE
END:VEVENT
BEGIN:VEVENT
DTSTART;TZID=America/Los_Angeles:20250203T103000
DTEND;TZID=America/Los_Angeles:20250203T110000
DTSTAMP:20260424T090522Z
UID:r4hh3qh70b3nba0uge5c3lfeeq_R20231002T173000@google.com
X-GOOGLE-CONFERENCE:https://meet.google.com/rrj-ybdo-kub
RECURRENCE-ID;TZID=America/Los_Angeles:20250203T103000
CLASS:PUBLIC
CREATED:20201009T000444Z
DESCRIPTION:<a href="https://docs.google.com/document/d/1-uEEZfmRdPThZlctOq
 9eXlmUaSSAAi8oKxhrPY_lpjk/edit#heading=h.nhty409us69h" id="ow647" __is_owne
 r="true">Meeting doc</a>\n\nJoin with Google Meet: https://meet.google.com/
 rrj-ybdo-kub\nOr dial: (US) +1 607-414-3023 PIN: 436105282#\nMore phone num
 bers: https://tel.meet/rrj-ybdo-kub?pin=1569496914393&hs=7\n\nLearn more ab
 out Meet at: https://support.google.com/a/users/answer/9282720
LAST-MODIFIED:20260413T101310Z
LOCATION:US-SVL-CRSM1265-7-J-Phone Room 7J6 (1) [GVC]
SEQUENCE:7
STATUS:CONFIRMED
SUMMARY:MemorySSA in LLVM - Open Source Meeting
TRANSP:OPAQUE
END:VEVENT
BEGIN:VEVENT
DTSTART;TZID=America/Los_Angeles:20251006T103000
DTEND;TZID=America/Los_Angeles:20251006T110000
DTSTAMP:20260424T090522Z
UID:r4hh3qh70b3nba0uge5c3lfeeq_R20231002T173000@google.com
X-GOOGLE-CONFERENCE:https://meet.google.com/rrj-ybdo-kub
RECURRENCE-ID;TZID=America/Los_Angeles:20251006T103000
CLASS:PUBLIC
CREATED:20201009T000444Z
DESCRIPTION:<a href="https://docs.google.com/document/d/1-uEEZfmRdPThZlctOq
 9eXlmUaSSAAi8oKxhrPY_lpjk/edit#heading=h.nhty409us69h" id="ow647" __is_owne
 r="true">Meeting doc</a>\n\nJoin with Google Meet: https://meet.google.com/
 rrj-ybdo-kub\nOr dial: (US) +1 607-414-3023 PIN: 436105282#\nMore phone num
 bers: https://tel.meet/rrj-ybdo-kub?pin=1569496914393&hs=7\n\nLearn more ab
 out Meet at: https://support.google.com/a/users/answer/9282720
LAST-MODIFIED:20260413T101310Z
SEQUENCE:7
STATUS:CONFIRMED
SUMMARY:MemorySSA in LLVM - Open Source Meeting
TRANSP:OPAQUE
END:VEVENT
BEGIN:VEVENT
DTSTART;TZID=America/Los_Angeles:20230807T093000
DTEND;TZID=America/Los_Angeles:20230807T100000
DTSTAMP:20260424T090522Z
UID:r4hh3qh70b3nba0uge5c3lfeeq_R20230605T173000@google.com
X-GOOGLE-CONFERENCE:https://meet.google.com/rrj-ybdo-kub
RECURRENCE-ID;TZID=America/Los_Angeles:20230807T103000
CLASS:PUBLIC
CREATED:20201009T000444Z
DESCRIPTION:<a href="https://docs.google.com/document/d/1-uEEZfmRdPThZlctOq
 9eXlmUaSSAAi8oKxhrPY_lpjk/edit#heading=h.nhty409us69h" id="ow647" __is_owne
 r="true">Meeting doc</a>\n\nJoin with Google Meet: https://meet.google.com/
 rrj-ybdo-kub\nOr dial: (US) +1 607-414-3023 PIN: 436105282#\nMore phone num
 bers: https://tel.meet/rrj-ybdo-kub?pin=1569496914393&hs=7\n\nLearn more ab
 out Meet at: https://support.google.com/a/users/answer/9282720
LAST-MODIFIED:20260413T101310Z
LOCATION:US-SVL-CRSM1265-7-J-Phone Room 7J6 (1) [GVC]
SEQUENCE:8
STATUS:CONFIRMED
SUMMARY:MemorySSA in LLVM - Open Source Meeting
TRANSP:OPAQUE
END:VEVENT
BEGIN:VEVENT
DTSTART;TZID=America/Los_Angeles:20231002T103000
DTEND;TZID=America/Los_Angeles:20231002T110000
DTSTAMP:20260424T090522Z
UID:r4hh3qh70b3nba0uge5c3lfeeq_R20231002T173000@google.com
X-GOOGLE-CONFERENCE:https://meet.google.com/rrj-ybdo-kub
RECURRENCE-ID;TZID=America/Los_Angeles:20231002T103000
CLASS:PUBLIC
CREATED:20201009T000444Z
DESCRIPTION:<a href="https://docs.google.com/document/d/1-uEEZfmRdPThZlctOq
 9eXlmUaSSAAi8oKxhrPY_lpjk/edit#heading=h.nhty409us69h" id="ow647" __is_owne
 r="true">Meeting doc</a>\n\nJoin with Google Meet: https://meet.google.com/
 rrj-ybdo-kub\nOr dial: (US) +1 607-414-3023 PIN: 436105282#\nMore phone num
 bers: https://tel.meet/rrj-ybdo-kub?pin=1569496914393&hs=7\n\nLearn more ab
 out Meet at: https://support.google.com/a/users/answer/9282720
LAST-MODIFIED:20260413T101310Z
LOCATION:US-SVL-CRSM1265-7-J-Phone Room 7J6 (1) [GVC]
SEQUENCE:7
STATUS:CONFIRMED
SUMMARY:MemorySSA in LLVM - Open Source Meeting
TRANSP:OPAQUE
END:VEVENT
BEGIN:VEVENT
DTSTART;TZID=America/Los_Angeles:20231002T103000
DTEND;TZID=America/Los_Angeles:20231002T110000
RRULE:FREQ=MONTHLY;INTERVAL=2;BYDAY=1MO
EXDATE;TZID=America/Los_Angeles:20250407T103000
EXDATE;TZID=America/Los_Angeles:20250602T103000
EXDATE;TZID=America/Los_Angeles:20260406T103000
DTSTAMP:20260424T090522Z
UID:r4hh3qh70b3nba0uge5c3lfeeq_R20231002T173000@google.com
X-GOOGLE-CONFERENCE:https://meet.google.com/rrj-ybdo-kub
CLASS:PUBLIC
CREATED:20201009T000444Z
DESCRIPTION:<a href="https://docs.google.com/document/d/1-uEEZfmRdPThZlctOq
 9eXlmUaSSAAi8oKxhrPY_lpjk/edit#heading=h.nhty409us69h" id="ow647" __is_owne
 r="true">Meeting doc</a>\n\nJoin with Google Meet: https://meet.google.com/
 rrj-ybdo-kub\nOr dial: (US) +1 607-414-3023 PIN: 436105282#\nMore phone num
 bers: https://tel.meet/rrj-ybdo-kub?pin=1569496914393&hs=7\n\nLearn more ab
 out Meet at: https://support.google.com/a/users/answer/9282720
LAST-MODIFIED:20260413T101310Z
SEQUENCE:7
STATUS:CONFIRMED
SUMMARY:MemorySSA in LLVM - Open Source Meeting
TRANSP:OPAQUE
END:VEVENT
BEGIN:VEVENT
DTSTART;TZID=America/Los_Angeles:20210802T103000
DTEND;TZID=America/Los_Angeles:20210802T110000
RRULE:FREQ=MONTHLY;UNTIL=20211004T065959Z;INTERVAL=2;BYDAY=1MO
EXDATE;TZID=America/Los_Angeles:20210802T103000
DTSTAMP:20260424T090522Z
UID:r4hh3qh70b3nba0uge5c3lfeeq@google.com
X-GOOGLE-CONFERENCE:https://meet.google.com/rrj-ybdo-kub
CLASS:PUBLIC
CREATED:20201009T000444Z
DESCRIPTION:<a href="https://docs.google.com/document/d/1-uEEZfmRdPThZlctOq
 9eXlmUaSSAAi8oKxhrPY_lpjk/edit#heading=h.nhty409us69h" id="ow647" __is_owne
 r="true">Meeting doc</a>\n\nJoin with Google Meet: https://meet.google.com/
 rrj-ybdo-kub\nOr dial: (US) +1 607-414-3023 PIN: 436105282#\nMore phone num
 bers: https://tel.meet/rrj-ybdo-kub?pin=1569496914393&hs=7\n\nLearn more ab
 out Meet at: https://support.google.com/a/users/answer/9282720
LAST-MODIFIED:20260413T101310Z
SEQUENCE:7
STATUS:CONFIRMED
SUMMARY:MemorySSA in LLVM - Open Source Meeting
TRANSP:OPAQUE
END:VEVENT
BEGIN:VEVENT
DTSTART;TZID=America/Los_Angeles:20241007T110000
DTEND;TZID=America/Los_Angeles:20241007T113000
DTSTAMP:20260424T090522Z
UID:r4hh3qh70b3nba0uge5c3lfeeq_R20231002T173000@google.com
X-GOOGLE-CONFERENCE:https://meet.google.com/rrj-ybdo-kub
RECURRENCE-ID;TZID=America/Los_Angeles:20241007T103000
CLASS:PUBLIC
CREATED:20201009T000444Z
DESCRIPTION:<a href="https://docs.google.com/document/d/1-uEEZfmRdPThZlctOq
 9eXlmUaSSAAi8oKxhrPY_lpjk/edit#heading=h.nhty409us69h" id="ow647" __is_owne
 r="true">Meeting doc</a>\n\nJoin with Google Meet: https://meet.google.com/
 rrj-ybdo-kub\nOr dial: (US) +1 607-414-3023 PIN: 436105282#\nMore phone num
 bers: https://tel.meet/rrj-ybdo-kub?pin=1569496914393&hs=7\n\nLearn more ab
 out Meet at: https://support.google.com/a/users/answer/9282720
LAST-MODIFIED:20260413T101310Z
SEQUENCE:8
STATUS:CONFIRMED
SUMMARY:MemorySSA in LLVM - Open Source Meeting
TRANSP:OPAQUE
END:VEVENT
END:VCALENDAR
