BEGIN:VCALENDAR
PRODID:-//Google Inc//Google Calendar 70.9054//EN
VERSION:2.0
CALSCALE:GREGORIAN
METHOD:PUBLISH
X-WR-CALNAME:LLVM Office hours
X-WR-TIMEZONE:America/Los_Angeles
BEGIN:VTIMEZONE
TZID:America/Los_Angeles
X-LIC-LOCATION:America/Los_Angeles
BEGIN:DAYLIGHT
TZOFFSETFROM:-0800
TZOFFSETTO:-0700
TZNAME:PDT
DTSTART:19700308T020000
RRULE:FREQ=YEARLY;BYMONTH=3;BYDAY=2SU
END:DAYLIGHT
BEGIN:STANDARD
TZOFFSETFROM:-0700
TZOFFSETTO:-0800
TZNAME:PST
DTSTART:19701101T020000
RRULE:FREQ=YEARLY;BYMONTH=11;BYDAY=1SU
END:STANDARD
END:VTIMEZONE
BEGIN:VEVENT
DTSTART;TZID=America/Los_Angeles:20220208T100000
DTEND;TZID=America/Los_Angeles:20220208T103000
RRULE:FREQ=MONTHLY;UNTIL=20220308T075959Z;BYDAY=2TU
DTSTAMP:20260424T124902Z
UID:34sge42u53albfm46hldk2tasf@google.com
X-GOOGLE-CONFERENCE:https://meet.google.com/hhk-xpdj-gvx
CREATED:20211215T185552Z
DESCRIPTION:<a href="https://docs.google.com/document/d/1TK9V-X8oyuiLeIFJ1s
 ncdrdLv89lxidZjXFNYCHXjzM/edit#" id="ow4595" __is_owner="true">Public meeti
 ng doc</a>\n\nJoin with Google Meet: https://meet.google.com/hhk-xpdj-gvx\n
 Or dial: (US) +1 443-671-8735 PIN: 622940458#\nMore phone numbers: https://
 tel.meet/hhk-xpdj-gvx?pin=4473119567593&hs=7\n\nLearn more about Meet at: h
 ttps://support.google.com/a/users/answer/9282720
LAST-MODIFIED:20260330T183028Z
SEQUENCE:2
STATUS:CONFIRMED
SUMMARY:Alina Sbirlea - Office hours in LLVM
TRANSP:OPAQUE
END:VEVENT
BEGIN:VEVENT
DTSTART;TZID=America/Los_Angeles:20220308T100000
DTEND;TZID=America/Los_Angeles:20220308T103000
RRULE:FREQ=MONTHLY;UNTIL=20230613T065959Z;BYDAY=2TU
EXDATE;TZID=America/Los_Angeles:20220712T100000
EXDATE;TZID=America/Los_Angeles:20221108T100000
EXDATE;TZID=America/Los_Angeles:20230411T100000
DTSTAMP:20260424T124902Z
UID:34sge42u53albfm46hldk2tasf_R20220308T180000@google.com
X-GOOGLE-CONFERENCE:https://meet.google.com/hhk-xpdj-gvx
CREATED:20211215T185552Z
DESCRIPTION:<a href="https://docs.google.com/document/d/1TK9V-X8oyuiLeIFJ1s
 ncdrdLv89lxidZjXFNYCHXjzM/edit#" id="ow4595" __is_owner="true">Public meeti
 ng doc</a>\n\nJoin with Google Meet: https://meet.google.com/hhk-xpdj-gvx\n
 Or dial: (US) +1 443-671-8735 PIN: 622940458#\nMore phone numbers: https://
 tel.meet/hhk-xpdj-gvx?pin=4473119567593&hs=7\n\nLearn more about Meet at: h
 ttps://support.google.com/a/users/answer/9282720
LAST-MODIFIED:20260330T183028Z
SEQUENCE:2
STATUS:CONFIRMED
SUMMARY:Alina Sbirlea - Office hours in LLVM
TRANSP:OPAQUE
END:VEVENT
BEGIN:VEVENT
DTSTART;TZID=America/Los_Angeles:20240514T090000
DTEND;TZID=America/Los_Angeles:20240514T093000
DTSTAMP:20260424T124902Z
UID:4enk0jocokgs8u5dn4d6p28lkn@google.com
X-GOOGLE-CONFERENCE:https://meet.google.com/hhk-xpdj-gvx
RECURRENCE-ID;TZID=America/Los_Angeles:20240514T093000
CREATED:20211215T185552Z
DESCRIPTION:<a href="https://docs.google.com/document/d/1TK9V-X8oyuiLeIFJ1s
 ncdrdLv89lxidZjXFNYCHXjzM/edit#" id="ow4595" __is_owner="true">Public meeti
 ng doc</a>\n\nJoin with Google Meet: https://meet.google.com/hhk-xpdj-gvx\n
 Or dial: (US) +1 443-671-8735 PIN: 622940458#\nMore phone numbers: https://
 tel.meet/hhk-xpdj-gvx?pin=4473119567593&hs=7\n\nLearn more about Meet at: h
 ttps://support.google.com/a/users/answer/9282720
LAST-MODIFIED:20260330T183032Z
SEQUENCE:5
STATUS:CONFIRMED
SUMMARY:Alina Sbirlea - Office hours in LLVM
TRANSP:OPAQUE
END:VEVENT
BEGIN:VEVENT
DTSTART;TZID=America/Los_Angeles:20250909T093000
DTEND;TZID=America/Los_Angeles:20250909T100000
RRULE:FREQ=MONTHLY;BYDAY=2TU
EXDATE;TZID=America/Los_Angeles:20251111T093000
EXDATE;TZID=America/Los_Angeles:20260113T093000
DTSTAMP:20260424T124902Z
UID:4enk0jocokgs8u5dn4d6p28lkn_R20250909T163000@google.com
X-GOOGLE-CONFERENCE:https://meet.google.com/hhk-xpdj-gvx
CREATED:20211215T185552Z
DESCRIPTION:<a href="https://docs.google.com/document/d/1TK9V-X8oyuiLeIFJ1s
 ncdrdLv89lxidZjXFNYCHXjzM/edit#" id="ow4595" __is_owner="true">Public meeti
 ng doc</a>\n\nJoin with Google Meet: https://meet.google.com/hhk-xpdj-gvx\n
 Or dial: (US) +1 443-671-8735 PIN: 622940458#\nMore phone numbers: https://
 tel.meet/hhk-xpdj-gvx?pin=4473119567593&hs=7\n\nLearn more about Meet at: h
 ttps://support.google.com/a/users/answer/9282720
LAST-MODIFIED:20260330T183032Z
SEQUENCE:3
STATUS:CONFIRMED
SUMMARY:Office hours with Alina Sbirlea
TRANSP:OPAQUE
END:VEVENT
BEGIN:VEVENT
DTSTART;TZID=America/Los_Angeles:20220419T100000
DTEND;TZID=America/Los_Angeles:20220419T103000
DTSTAMP:20260424T124902Z
UID:34sge42u53albfm46hldk2tasf_R20220308T180000@google.com
X-GOOGLE-CONFERENCE:https://meet.google.com/hhk-xpdj-gvx
RECURRENCE-ID;TZID=America/Los_Angeles:20220412T100000
CREATED:20211215T185552Z
DESCRIPTION:<a href="https://docs.google.com/document/d/1TK9V-X8oyuiLeIFJ1s
 ncdrdLv89lxidZjXFNYCHXjzM/edit#" id="ow4595" __is_owner="true">Public meeti
 ng doc</a>\n\nJoin with Google Meet: https://meet.google.com/hhk-xpdj-gvx\n
 Or dial: (US) +1 443-671-8735 PIN: 622940458#\nMore phone numbers: https://
 tel.meet/hhk-xpdj-gvx?pin=4473119567593&hs=7\n\nLearn more about Meet at: h
 ttps://support.google.com/a/users/answer/9282720
LAST-MODIFIED:20260330T183028Z
SEQUENCE:3
STATUS:CONFIRMED
SUMMARY:Alina Sbirlea - Office hours in LLVM
TRANSP:OPAQUE
END:VEVENT
BEGIN:VEVENT
DTSTART;TZID=America/Los_Angeles:20230613T093000
DTEND;TZID=America/Los_Angeles:20230613T100000
RRULE:FREQ=MONTHLY;UNTIL=20250909T065959Z;BYDAY=2TU
EXDATE;TZID=America/Los_Angeles:20231010T093000
EXDATE;TZID=America/Los_Angeles:20231114T093000
EXDATE;TZID=America/Los_Angeles:20240213T093000
EXDATE;TZID=America/Los_Angeles:20240611T093000
EXDATE;TZID=America/Los_Angeles:20240709T093000
EXDATE;TZID=America/Los_Angeles:20240813T093000
EXDATE;TZID=America/Los_Angeles:20240910T093000
EXDATE;TZID=America/Los_Angeles:20241210T093000
EXDATE;TZID=America/Los_Angeles:20250211T093000
EXDATE;TZID=America/Los_Angeles:20250408T093000
EXDATE;TZID=America/Los_Angeles:20250708T093000
EXDATE;TZID=America/Los_Angeles:20250812T093000
DTSTAMP:20260424T124902Z
UID:4enk0jocokgs8u5dn4d6p28lkn@google.com
X-GOOGLE-CONFERENCE:https://meet.google.com/hhk-xpdj-gvx
CREATED:20211215T185552Z
DESCRIPTION:<a href="https://docs.google.com/document/d/1TK9V-X8oyuiLeIFJ1s
 ncdrdLv89lxidZjXFNYCHXjzM/edit#" id="ow4595" __is_owner="true">Public meeti
 ng doc</a>\n\nJoin with Google Meet: https://meet.google.com/hhk-xpdj-gvx\n
 Or dial: (US) +1 443-671-8735 PIN: 622940458#\nMore phone numbers: https://
 tel.meet/hhk-xpdj-gvx?pin=4473119567593&hs=7\n\nLearn more about Meet at: h
 ttps://support.google.com/a/users/answer/9282720
LAST-MODIFIED:20260330T183032Z
SEQUENCE:3
STATUS:CONFIRMED
SUMMARY:Alina Sbirlea - Office hours in LLVM
TRANSP:OPAQUE
END:VEVENT
BEGIN:VEVENT
DTSTART;TZID=America/Los_Angeles:20220510T100000
DTEND;TZID=America/Los_Angeles:20220510T103000
DTSTAMP:20260424T124902Z
UID:34sge42u53albfm46hldk2tasf_R20220308T180000@google.com
X-GOOGLE-CONFERENCE:https://meet.google.com/hhk-xpdj-gvx
RECURRENCE-ID;TZID=America/Los_Angeles:20220510T100000
CREATED:20211215T185552Z
DESCRIPTION:<a href="https://docs.google.com/document/d/1TK9V-X8oyuiLeIFJ1s
 ncdrdLv89lxidZjXFNYCHXjzM/edit#" id="ow4595" __is_owner="true">Public meeti
 ng doc</a>\n\nJoin with Google Meet: https://meet.google.com/hhk-xpdj-gvx\n
 Or dial: (US) +1 443-671-8735 PIN: 622940458#\nMore phone numbers: https://
 tel.meet/hhk-xpdj-gvx?pin=4473119567593&hs=7\n\nLearn more about Meet at: h
 ttps://support.google.com/a/users/answer/9282720
LAST-MODIFIED:20260330T183028Z
SEQUENCE:2
STATUS:CONFIRMED
SUMMARY:Alina Sbirlea - Office hours in LLVM
TRANSP:OPAQUE
END:VEVENT
BEGIN:VEVENT
DTSTART;TZID=America/Los_Angeles:20251014T093000
DTEND;TZID=America/Los_Angeles:20251014T100000
DTSTAMP:20260424T124902Z
UID:4enk0jocokgs8u5dn4d6p28lkn_R20250909T163000@google.com
X-GOOGLE-CONFERENCE:https://meet.google.com/hhk-xpdj-gvx
RECURRENCE-ID;TZID=America/Los_Angeles:20251014T093000
CREATED:20211215T185552Z
DESCRIPTION:<a href="https://docs.google.com/document/d/1TK9V-X8oyuiLeIFJ1s
 ncdrdLv89lxidZjXFNYCHXjzM/edit#" id="ow4595" __is_owner="true">Public meeti
 ng doc</a>\n\nJoin with Google Meet: https://meet.google.com/hhk-xpdj-gvx\n
 Or dial: (US) +1 443-671-8735 PIN: 622940458#\nMore phone numbers: https://
 tel.meet/hhk-xpdj-gvx?pin=4473119567593&hs=7\n\nLearn more about Meet at: h
 ttps://support.google.com/a/users/answer/9282720
LAST-MODIFIED:20260330T183032Z
SEQUENCE:3
STATUS:CONFIRMED
SUMMARY:Office hours with Alina Sbirlea
TRANSP:OPAQUE
END:VEVENT
END:VCALENDAR
