BEGIN:VCALENDAR
PRODID:-//Google Inc//Google Calendar 70.9054//EN
VERSION:2.0
CALSCALE:GREGORIAN
METHOD:PUBLISH
X-WR-CALNAME:LLVM Pointer Authentication
X-WR-TIMEZONE:America/Los_Angeles
BEGIN:VTIMEZONE
TZID:America/Los_Angeles
X-LIC-LOCATION:America/Los_Angeles
BEGIN:DAYLIGHT
TZOFFSETFROM:-0800
TZOFFSETTO:-0700
TZNAME:PDT
DTSTART:19700308T020000
RRULE:FREQ=YEARLY;BYMONTH=3;BYDAY=2SU
END:DAYLIGHT
BEGIN:STANDARD
TZOFFSETFROM:-0700
TZOFFSETTO:-0800
TZNAME:PST
DTSTART:19701101T020000
RRULE:FREQ=YEARLY;BYMONTH=11;BYDAY=1SU
END:STANDARD
END:VTIMEZONE
BEGIN:VEVENT
DTSTART;TZID=America/Los_Angeles:20221128T100000
DTEND;TZID=America/Los_Angeles:20221128T110000
RRULE:FREQ=MONTHLY;UNTIL=20230626T065959Z;BYDAY=4MO
EXDATE;TZID=America/Los_Angeles:20221226T100000
DTSTAMP:20260424T100705Z
UID:jv3vm9pptjn3397dukpm6qjib8@google.com
X-GOOGLE-CONFERENCE:https://meet.google.com/xef-vtqz-fim
CREATED:20210416T103655Z
DESCRIPTION:<span>For agenda topics and minutes\, see https://docs.google.c
 om/document/d/14IDnh3YY9m6Ej_PaRKOz8tTTZlObgtLl8mYeRbytAec/edit?usp=sharing
 </span><br><span>&nbsp\;<br></span><p><span>Where: Zoom </span><a href="htt
 ps://armltd.zoom.us/j/99665672811?pwd=MUpFRVMwOG9IbGh2VklaVWc1VVdCQT09" id=
 "ow766" __is_owner="true"><span><br>https://armltd.zoom.us/j/99665672811?pw
 d=MUpFRVMwOG9IbGh2VklaVWc1VVdCQT09</span></a><span><br>Meeting ID: 996 6567
  2811<br>Passcode: 152481<br>Dial by your location</span><br>&nbsp\;&nbsp\;
 &nbsp\;&nbsp\;&nbsp\;&nbsp\;&nbsp\; <span>+32 1579 5132 Belgium</span><br>&
 nbsp\;&nbsp\;&nbsp\;&nbsp\;&nbsp\;&nbsp\;&nbsp\; <span>+44 203 481 5240 Uni
 ted Kingdom</span><br>&nbsp\;&nbsp\;&nbsp\;&nbsp\;&nbsp\;&nbsp\;&nbsp\; <sp
 an>+1 346 248 7799 US (Houston)</span><br>&nbsp\;&nbsp\;&nbsp\;&nbsp\;&nbsp
 \;&nbsp\;&nbsp\; <span>+1 408 638 0968 US (San Jose)<br>Find your local num
 ber: </span><a href="https://armltd.zoom.us/u/acA0I9cm6M" id="ow770" __is_o
 wner="true"><span>https://armltd.zoom.us/u/acA0I9cm6M</span></a></p>\n\nJoi
 n with Google Meet: https://meet.google.com/xef-vtqz-fim\n\nLearn more abou
 t Meet at: https://support.google.com/a/users/answer/9282720
LAST-MODIFIED:20231028T082922Z
LOCATION:https://armltd.zoom.us/j/99665672811?pwd=MUpFRVMwOG9IbGh2VklaVWc1V
 VdCQT09
SEQUENCE:1
STATUS:CONFIRMED
SUMMARY:LLVM Pointer Authentication
TRANSP:OPAQUE
END:VEVENT
BEGIN:VEVENT
DTSTART;TZID=America/Los_Angeles:20230626T100000
DTEND;TZID=America/Los_Angeles:20230626T110000
RRULE:FREQ=MONTHLY;UNTIL=20231023T065959Z;BYDAY=4MO
DTSTAMP:20260424T100705Z
UID:jv3vm9pptjn3397dukpm6qjib8_R20230626T170000@google.com
X-GOOGLE-CONFERENCE:https://meet.google.com/xef-vtqz-fim
CREATED:20210416T103655Z
DESCRIPTION:<br><br><br><br><br><br><br><font><span><br>minutes are at:<br>
 <a href="https://discourse.llvm.org/t/llvm-pointer-authentication-sync-ups/
 62661">https://discourse.llvm.org/t/llvm-pointer-authentication-sync-ups/62
 661</a></span></font>  <span><br></span><p><span>Where: Zoom </span><a href
 ="https://armltd.zoom.us/j/99665672811?pwd=MUpFRVMwOG9IbGh2VklaVWc1VVdCQT09
 "><span><br>https://armltd.zoom.us/j/99665672811?pwd=MUpFRVMwOG9IbGh2VklaVW
 c1VVdCQT09</span></a><span><br>Meeting ID: 996 6567 2811<br>Passcode: 15248
 1<br>Dial by your location</span><br>        <span>+32 1579 5132 Belgium</s
 pan><br>        <span>+44 203 481 5240 United Kingdom</span><br>        <sp
 an>+1 346 248 7799 US (Houston)</span><br>        <span>+1 408 638 0968 US 
 (San Jose)<br>Find your local number: </span><a href="https://armltd.zoom.u
 s/u/acA0I9cm6M"><span>https://armltd.zoom.us/u/acA0I9cm6M</span></a></p>\n\
 nJoin with Google Meet: https://meet.google.com/xef-vtqz-fim\n\nLearn more 
 about Meet at: https://support.google.com/a/users/answer/9282720
LAST-MODIFIED:20231028T082922Z
LOCATION:https://armltd.zoom.us/j/99665672811?pwd=MUpFRVMwOG9IbGh2VklaVWc1V
 VdCQT09
SEQUENCE:1
STATUS:CONFIRMED
SUMMARY:LLVM Pointer Authentication
TRANSP:OPAQUE
END:VEVENT
BEGIN:VEVENT
DTSTART;TZID=America/Los_Angeles:20240521T130000
DTEND;TZID=America/Los_Angeles:20240521T140000
DTSTAMP:20260424T100705Z
UID:k8b96i4vg0ubcp93chu7iqc8m0@google.com
X-GOOGLE-CONFERENCE:https://meet.google.com/xef-vtqz-fim
RECURRENCE-ID;TZID=America/Los_Angeles:20240520T100000
CREATED:20210416T103655Z
DESCRIPTION:<br><br><br><br><br><br><br><font><span><br>minutes are at:<br>
 <a href="https://discourse.llvm.org/t/llvm-pointer-authentication-sync-ups/
 62661">https://discourse.llvm.org/t/llvm-pointer-authentication-sync-ups/62
 661</a></span></font>  <span><br></span><p><span>Where: Zoom </span><a href
 ="https://armltd.zoom.us/j/99665672811?pwd=MUpFRVMwOG9IbGh2VklaVWc1VVdCQT09
 "><span><br>https://armltd.zoom.us/j/99665672811?pwd=MUpFRVMwOG9IbGh2VklaVW
 c1VVdCQT09</span></a><span><br>Meeting ID: 996 6567 2811<br>Passcode: 15248
 1<br>Dial by your location</span><br>        <span>+32 1579 5132 Belgium</s
 pan><br>        <span>+44 203 481 5240 United Kingdom</span><br>        <sp
 an>+1 346 248 7799 US (Houston)</span><br>        <span>+1 408 638 0968 US 
 (San Jose)<br>Find your local number: </span><a href="https://armltd.zoom.u
 s/u/acA0I9cm6M"><span>https://armltd.zoom.us/u/acA0I9cm6M</span></a></p>\n\
 nJoin with Google Meet: https://meet.google.com/xef-vtqz-fim\n\nLearn more 
 about Meet at: https://support.google.com/a/users/answer/9282720
LAST-MODIFIED:20240923T173311Z
LOCATION:https://armltd.zoom.us/j/99665672811?pwd=MUpFRVMwOG9IbGh2VklaVWc1V
 VdCQT09
SEQUENCE:3
STATUS:CONFIRMED
SUMMARY:LLVM Pointer Authentication
TRANSP:OPAQUE
END:VEVENT
BEGIN:VEVENT
DTSTART;TZID=America/Los_Angeles:20240923T100000
DTEND;TZID=America/Los_Angeles:20240923T110000
RRULE:FREQ=WEEKLY;UNTIL=20250113T075959Z;INTERVAL=2;BYDAY=MO
EXDATE;TZID=America/Los_Angeles:20241021T100000
EXDATE;TZID=America/Los_Angeles:20241230T100000
DTSTAMP:20260424T100705Z
UID:idu8mgaav9l25j3c2mi6a2uv9v@google.com
CREATED:20210416T103655Z
DESCRIPTION:<br><br><br><br><br><br><br><font><span><br>minutes are at:<br>
 <a href="https://discourse.llvm.org/t/llvm-pointer-authentication-sync-ups/
 62661">https://discourse.llvm.org/t/llvm-pointer-authentication-sync-ups/62
 661</a></span></font>  <span><br></span><p><span>Where: Zoom </span><a href
 ="https://armltd.zoom.us/j/99665672811?pwd=MUpFRVMwOG9IbGh2VklaVWc1VVdCQT09
 "><span><br>https://armltd.zoom.us/j/99665672811?pwd=MUpFRVMwOG9IbGh2VklaVW
 c1VVdCQT09</span></a><span><br>Meeting ID: 996 6567 2811<br>Passcode: 15248
 1<br>Dial by your location</span><br>        <span>+32 1579 5132 Belgium</s
 pan><br>        <span>+44 203 481 5240 United Kingdom</span><br>        <sp
 an>+1 346 248 7799 US (Houston)</span><br>        <span>+1 408 638 0968 US 
 (San Jose)<br>Find your local number: </span><a href="https://armltd.zoom.u
 s/u/acA0I9cm6M"><span>https://armltd.zoom.us/u/acA0I9cm6M</span></a></p>
LAST-MODIFIED:20260415T154925Z
LOCATION:https://armltd.zoom.us/j/99665672811?pwd=MUpFRVMwOG9IbGh2VklaVWc1V
 VdCQT09
SEQUENCE:3
STATUS:CONFIRMED
SUMMARY:LLVM Pointer Authentication
TRANSP:OPAQUE
END:VEVENT
BEGIN:VEVENT
DTSTART;TZID=America/Los_Angeles:20240528T130000
DTEND;TZID=America/Los_Angeles:20240528T140000
DTSTAMP:20260424T100705Z
UID:k8b96i4vg0ubcp93chu7iqc8m0@google.com
X-GOOGLE-CONFERENCE:https://meet.google.com/xef-vtqz-fim
RECURRENCE-ID;TZID=America/Los_Angeles:20240527T100000
CREATED:20210416T103655Z
DESCRIPTION:<br><br><br><br><br><br><br><font><span><br>minutes are at:<br>
 <a href="https://discourse.llvm.org/t/llvm-pointer-authentication-sync-ups/
 62661">https://discourse.llvm.org/t/llvm-pointer-authentication-sync-ups/62
 661</a></span></font>  <span><br></span><p><span>Where: Zoom </span><a href
 ="https://armltd.zoom.us/j/99665672811?pwd=MUpFRVMwOG9IbGh2VklaVWc1VVdCQT09
 "><span><br>https://armltd.zoom.us/j/99665672811?pwd=MUpFRVMwOG9IbGh2VklaVW
 c1VVdCQT09</span></a><span><br>Meeting ID: 996 6567 2811<br>Passcode: 15248
 1<br>Dial by your location</span><br>        <span>+32 1579 5132 Belgium</s
 pan><br>        <span>+44 203 481 5240 United Kingdom</span><br>        <sp
 an>+1 346 248 7799 US (Houston)</span><br>        <span>+1 408 638 0968 US 
 (San Jose)<br>Find your local number: </span><a href="https://armltd.zoom.u
 s/u/acA0I9cm6M"><span>https://armltd.zoom.us/u/acA0I9cm6M</span></a></p>\n\
 nJoin with Google Meet: https://meet.google.com/xef-vtqz-fim\n\nLearn more 
 about Meet at: https://support.google.com/a/users/answer/9282720
LAST-MODIFIED:20240923T173311Z
LOCATION:https://armltd.zoom.us/j/99665672811?pwd=MUpFRVMwOG9IbGh2VklaVWc1V
 VdCQT09
SEQUENCE:4
STATUS:CONFIRMED
SUMMARY:LLVM Pointer Authentication
TRANSP:OPAQUE
END:VEVENT
BEGIN:VEVENT
DTSTART;TZID=America/Los_Angeles:20210426T090000
DTEND;TZID=America/Los_Angeles:20210426T100000
RRULE:FREQ=MONTHLY;UNTIL=20221128T075959Z;BYDAY=4MO
DTSTAMP:20260424T100705Z
UID:19hgj7ug45ihvvqq64udoacea1@google.com
X-GOOGLE-CONFERENCE:https://meet.google.com/xef-vtqz-fim
CREATED:20210416T103655Z
DESCRIPTION:<span>For agenda topics and minutes\, see https://docs.google.c
 om/document/d/14IDnh3YY9m6Ej_PaRKOz8tTTZlObgtLl8mYeRbytAec/edit?usp=sharing
 </span><br><span>&nbsp\;<br></span><p><span>Where: Zoom </span><a href="htt
 ps://armltd.zoom.us/j/99665672811?pwd=MUpFRVMwOG9IbGh2VklaVWc1VVdCQT09" id=
 "ow766" __is_owner="true"><span><br>https://armltd.zoom.us/j/99665672811?pw
 d=MUpFRVMwOG9IbGh2VklaVWc1VVdCQT09</span></a><span><br>Meeting ID: 996 6567
  2811<br>Passcode: 152481<br>Dial by your location</span><br>&nbsp\;&nbsp\;
 &nbsp\;&nbsp\;&nbsp\;&nbsp\;&nbsp\; <span>+32 1579 5132 Belgium</span><br>&
 nbsp\;&nbsp\;&nbsp\;&nbsp\;&nbsp\;&nbsp\;&nbsp\; <span>+44 203 481 5240 Uni
 ted Kingdom</span><br>&nbsp\;&nbsp\;&nbsp\;&nbsp\;&nbsp\;&nbsp\;&nbsp\; <sp
 an>+1 346 248 7799 US (Houston)</span><br>&nbsp\;&nbsp\;&nbsp\;&nbsp\;&nbsp
 \;&nbsp\;&nbsp\; <span>+1 408 638 0968 US (San Jose)<br>Find your local num
 ber: </span><a href="https://armltd.zoom.us/u/acA0I9cm6M" id="ow770" __is_o
 wner="true"><span>https://armltd.zoom.us/u/acA0I9cm6M</span></a></p>\n\nJoi
 n with Google Meet: https://meet.google.com/xef-vtqz-fim\n\nLearn more abou
 t Meet at: https://support.google.com/a/users/answer/9282720
LAST-MODIFIED:20221025T124304Z
LOCATION:https://armltd.zoom.us/j/99665672811?pwd=MUpFRVMwOG9IbGh2VklaVWc1V
 VdCQT09
SEQUENCE:0
STATUS:CONFIRMED
SUMMARY:LLVM Pointer Authentication
TRANSP:OPAQUE
END:VEVENT
BEGIN:VEVENT
DTSTART;TZID=America/Los_Angeles:20250113T100000
DTEND;TZID=America/Los_Angeles:20250113T110000
RRULE:FREQ=WEEKLY;INTERVAL=2;BYDAY=MO
EXDATE;TZID=America/Los_Angeles:20250421T100000
EXDATE;TZID=America/Los_Angeles:20251229T100000
EXDATE;TZID=America/Los_Angeles:20260420T100000
DTSTAMP:20260424T100705Z
UID:idu8mgaav9l25j3c2mi6a2uv9v_R20250113T180000@google.com
CREATED:20210416T103655Z
DESCRIPTION:<pre>This event is a meetup for discussions related to implemen
 tation ofpointer authentication-related security features in llvm.</pre><pr
 e>Attendees are required to adhere to the LLVM Code of Conduct(<a href="htt
 ps://llvm.org/docs/CodeOfConduct.html)." target="_blank">https://llvm.org/d
 ocs/CodeOfConduct.html).</a> For any Code of Conduct reports\,please contac
 t the organizers\, and also email conduct@llvm.org.Agenda/Meeting Minutes: 
 <a href="https://discourse.llvm.org/t/llvm-pointer-authentication-sync-ups/
 62661" target="_blank"><u>https://discourse.llvm.org/t/llvm-pointer-authent
 ication-sync-ups/62661</u></a> Organizer(s): Kristof Beyls (<a href="mailto
 :kristof.beyls@arm.com" target="_blank">kristof.beyls@arm.com</a>)</pre><p>
 <span>Where: Zoom </span><a href="https://armltd.zoom.us/j/99665672811?pwd=
 MUpFRVMwOG9IbGh2VklaVWc1VVdCQT09" target="_blank"><span><br>https://armltd.
 zoom.us/j/99665672811?pwd=MUpFRVMwOG9IbGh2VklaVWc1VVdCQT09</span></a><span>
 <br>Meeting ID: 996 6567 2811<br>Passcode: 152481<br>Dial by your location<
 /span><br>        <span>+32 1579 5132 Belgium</span><br>        <span>+44 2
 03 481 5240 United Kingdom</span><br>        <span>+1 346 248 7799 US (Hous
 ton)</span><br>        <span>+1 408 638 0968 US (San Jose)<br>Find your loc
 al number: </span><a href="https://armltd.zoom.us/u/acA0I9cm6M" target="_bl
 ank"><span>https://armltd.zoom.us/u/acA0I9cm6M</span></a></p><p><br></p><pr
 e>discord-bot-channels-to-mention: #pauth</pre><pre>discord-bot-event-type:
  sync-up</pre><pre>discord-bot-reminder-time-before-start: 5</pre>
LAST-MODIFIED:20260415T154925Z
LOCATION:https://armltd.zoom.us/j/99665672811?pwd=MUpFRVMwOG9IbGh2VklaVWc1V
 VdCQT09
SEQUENCE:3
STATUS:CONFIRMED
SUMMARY:LLVM Pointer Authentication
TRANSP:OPAQUE
END:VEVENT
BEGIN:VEVENT
DTSTART;TZID=America/Los_Angeles:20231023T100000
DTEND;TZID=America/Los_Angeles:20231023T110000
RRULE:FREQ=WEEKLY;UNTIL=20240923T065959Z;BYDAY=MO
EXDATE;TZID=America/Los_Angeles:20231225T100000
EXDATE;TZID=America/Los_Angeles:20240101T100000
EXDATE;TZID=America/Los_Angeles:20240325T100000
EXDATE;TZID=America/Los_Angeles:20240401T100000
EXDATE;TZID=America/Los_Angeles:20240422T100000
EXDATE;TZID=America/Los_Angeles:20240916T100000
DTSTAMP:20260424T100705Z
UID:k8b96i4vg0ubcp93chu7iqc8m0@google.com
X-GOOGLE-CONFERENCE:https://meet.google.com/xef-vtqz-fim
CREATED:20210416T103655Z
DESCRIPTION:<br><br><br><br><br><br><br><font><span><br>minutes are at:<br>
 <a href="https://discourse.llvm.org/t/llvm-pointer-authentication-sync-ups/
 62661">https://discourse.llvm.org/t/llvm-pointer-authentication-sync-ups/62
 661</a></span></font>  <span><br></span><p><span>Where: Zoom </span><a href
 ="https://armltd.zoom.us/j/99665672811?pwd=MUpFRVMwOG9IbGh2VklaVWc1VVdCQT09
 "><span><br>https://armltd.zoom.us/j/99665672811?pwd=MUpFRVMwOG9IbGh2VklaVW
 c1VVdCQT09</span></a><span><br>Meeting ID: 996 6567 2811<br>Passcode: 15248
 1<br>Dial by your location</span><br>        <span>+32 1579 5132 Belgium</s
 pan><br>        <span>+44 203 481 5240 United Kingdom</span><br>        <sp
 an>+1 346 248 7799 US (Houston)</span><br>        <span>+1 408 638 0968 US 
 (San Jose)<br>Find your local number: </span><a href="https://armltd.zoom.u
 s/u/acA0I9cm6M"><span>https://armltd.zoom.us/u/acA0I9cm6M</span></a></p>\n\
 nJoin with Google Meet: https://meet.google.com/xef-vtqz-fim\n\nLearn more 
 about Meet at: https://support.google.com/a/users/answer/9282720
LAST-MODIFIED:20240923T173311Z
LOCATION:https://armltd.zoom.us/j/99665672811?pwd=MUpFRVMwOG9IbGh2VklaVWc1V
 VdCQT09
SEQUENCE:2
STATUS:CONFIRMED
SUMMARY:LLVM Pointer Authentication
TRANSP:OPAQUE
END:VEVENT
END:VCALENDAR
