BEGIN:VCALENDAR
PRODID:-//Google Inc//Google Calendar 70.9054//EN
VERSION:2.0
CALSCALE:GREGORIAN
METHOD:PUBLISH
X-WR-CALNAME:Clang Office Hours
X-WR-TIMEZONE:America/New_York
X-WR-CALDESC:Office hours for discussions about topics in Clang in general.
  There is no agenda\, anyone can show up at any time and ask questions.\n\n
 Attendees are required to adhere to the LLVM Code of Conduct.
BEGIN:VTIMEZONE
TZID:America/New_York
X-LIC-LOCATION:America/New_York
BEGIN:DAYLIGHT
TZOFFSETFROM:-0500
TZOFFSETTO:-0400
TZNAME:EDT
DTSTART:19700308T020000
RRULE:FREQ=YEARLY;BYMONTH=3;BYDAY=2SU
END:DAYLIGHT
BEGIN:STANDARD
TZOFFSETFROM:-0400
TZOFFSETTO:-0500
TZNAME:EST
DTSTART:19701101T020000
RRULE:FREQ=YEARLY;BYMONTH=11;BYDAY=1SU
END:STANDARD
END:VTIMEZONE
BEGIN:VEVENT
DTSTART;TZID=America/New_York:20220314T100000
DTEND;TZID=America/New_York:20220314T103000
RRULE:FREQ=MONTHLY;UNTIL=20220912T035959Z;BYDAY=2MO
DTSTAMP:20260424T041053Z
UID:5q0urqlc3tunu01q70o3hdkuol@google.com
X-GOOGLE-CONFERENCE:https://meet.google.com/xok-iqne-gmi
CREATED:20220223T130437Z
DESCRIPTION:<u></u>Office hours for discussions about topics in Clang in ge
 neral\, as well as clang-tidy\, clang-query\, AST matchers\, or anything el
 se you'd like to chat about. There is no agenda\, anyone can show up at any
  time and ask questions.<br><br>Attendees are required to adhere to the LLV
 M Code of Conduct (<a href="https://llvm.org/docs/CodeOfConduct.html" targe
 t="_blank">https://llvm.org/docs/CodeOfConduct.html</a>). For any Code of C
 onduct reports for these office hours\, please email <a href="mailto:conduc
 t@llvm.org" target="_blank">conduct@llvm.org</a>.<br><u></u><br><br><u></u>
 Meeting happens on Google Meet at: <a href="https://meet.google.com/xok-iqn
 e-gmi" target="_blank">https://meet.google.com/xok-iqne-gmi</a><br> <br><pr
 e><code>discord-bot-event-type: office-hours</code><code> </code></pre><pre
 ><code>discord-bot-mention: @aaronballman</code></pre><pre><code>discord-bo
 t-channels-to-mention: #office-hours</code></pre><pre><code>discord-bot-rem
 inder-time-before-start: 30</code></pre><pre>discord-bot-message: Come join
  us at <span><a href="https://meet.google.com/xok-iqne-gmi" target="_blank"
 >https://meet.google.com/xok-iqne-gmi</a></span><code> </code></pre>\n\nJoi
 n with Google Meet: https://meet.google.com/xok-iqne-gmi\n\nLearn more abou
 t Meet at: https://support.google.com/a/users/answer/9282720
LAST-MODIFIED:20260309T123659Z
LOCATION:Google Meet
SEQUENCE:0
STATUS:CONFIRMED
SUMMARY:Aaron Ballman's Clang Office Hours
TRANSP:OPAQUE
END:VEVENT
BEGIN:VEVENT
DTSTART;TZID=America/New_York:20230519T140000
DTEND;TZID=America/New_York:20230519T150000
RRULE:FREQ=MONTHLY;BYDAY=3FR
EXDATE;TZID=America/New_York:20231215T140000
EXDATE;TZID=America/New_York:20241220T140000
EXDATE;TZID=America/New_York:20250919T140000
EXDATE;TZID=America/New_York:20251121T140000
EXDATE;TZID=America/New_York:20251219T140000
DTSTAMP:20260424T041053Z
UID:090mo1jfo66s47e0bqd3u1rapb@google.com
CREATED:20230508T190523Z
DESCRIPTION:Office hours for discussions about topics in Clang in general\,
  as well as clang-tidy\, clang-query\, AST matchers\, or anything else you'
 d like to chat about. There is no agenda\, anyone can show up at any time a
 nd ask questions.<br><br>Attendees are required to adhere to the LLVM Code 
 of Conduct (<a href="https://llvm.org/docs/CodeOfConduct.html" target="_bla
 nk"><u>https://llvm.org/docs/CodeOfConduct.html</u></a>). For any Code of C
 onduct reports for these office hours\, please email <a href="mailto:conduc
 t@llvm.org" target="_blank"><u>conduct@llvm.org</u></a>.<br><br><u></u>Meet
 ing happens on Google Meet at: <a href="https://meet.google.com/xok-iqne-gm
 i" target="_blank"><u>https://meet.google.com/xok-iqne-gmi</u></a><br><span
 ><pre><code>discord-bot-event-type: office-hours</code><code> </code></pre>
 <pre><code>discord-bot-mention: @aaronballman</code></pre><pre><code>discor
 d-bot-channels-to-mention: #office-hours</code></pre><pre><code>discord-bot
 -reminder-time-before-start: 30</code></pre><pre>discord-bot-message: Come 
 join us at <span><a href="https://meet.google.com/xok-iqne-gmi" target="_bl
 ank">https://meet.google.com/xok-iqne-gmi</a></span></pre></span><u><br></u
 >
LAST-MODIFIED:20251202T142326Z
SEQUENCE:0
STATUS:CONFIRMED
SUMMARY:Aaron Ballman's Clang Office Hours
TRANSP:OPAQUE
END:VEVENT
BEGIN:VEVENT
DTSTART;TZID=America/New_York:20230519T100000
DTEND;TZID=America/New_York:20230519T110000
RRULE:FREQ=MONTHLY;BYDAY=3FR
EXDATE;TZID=America/New_York:20231215T100000
EXDATE;TZID=America/New_York:20241220T100000
EXDATE;TZID=America/New_York:20250919T100000
EXDATE;TZID=America/New_York:20251219T100000
DTSTAMP:20260424T041053Z
UID:07l7equf8v13bmkrqsdomdpfpf@google.com
CREATED:20230508T190449Z
DESCRIPTION:Office hours for discussions about topics in Clang in general\,
  as well as clang-tidy\, clang-query\, AST matchers\, or anything else you'
 d like to chat about. There is no agenda\, anyone can show up at any time a
 nd ask questions.<br><br>Attendees are required to adhere to the LLVM Code 
 of Conduct (<a href="https://llvm.org/docs/CodeOfConduct.html" target="_bla
 nk"><u>https://llvm.org/docs/CodeOfConduct.html</u></a>). For any Code of C
 onduct reports for these office hours\, please email <a href="mailto:conduc
 t@llvm.org" target="_blank"><u>conduct@llvm.org</u></a>.<br><br>Meeting hap
 pens on Google Meet at: <a href="https://meet.google.com/xok-iqne-gmi" targ
 et="_blank"><u>https://meet.google.com/xok-iqne-gmi</u></a><u> </u><br><u><
 br></u><br><span><pre><code>discord-bot-event-type: office-hours</code><cod
 e> </code></pre><pre><code>discord-bot-mention: @aaronballman</code></pre><
 pre><code>discord-bot-channels-to-mention: #office-hours</code></pre><pre><
 code>discord-bot-reminder-time-before-start: 30</code></pre><pre>discord-bo
 t-message: Come join us at <span><a href="https://meet.google.com/xok-iqne-
 gmi" target="_blank">https://meet.google.com/xok-iqne-gmi</a></span></pre><
 /span>
LAST-MODIFIED:20251202T142319Z
SEQUENCE:0
STATUS:CONFIRMED
SUMMARY:Aaron Ballman's Clang Office Hours
TRANSP:OPAQUE
END:VEVENT
BEGIN:VEVENT
DTSTART;TZID=America/New_York:20260112T100000
DTEND;TZID=America/New_York:20260112T110000
RRULE:FREQ=MONTHLY;BYDAY=2MO
EXDATE;TZID=America/New_York:20260309T100000
DTSTAMP:20260424T041053Z
UID:5q0urqlc3tunu01q70o3hdkuol_R20260112T150000@google.com
X-GOOGLE-CONFERENCE:https://meet.google.com/xok-iqne-gmi
CREATED:20220223T130437Z
DESCRIPTION:<u></u>Office hours for discussions about topics in Clang in ge
 neral\, as well as clang-tidy\, clang-query\, AST matchers\, or anything el
 se you'd like to chat about. There is no agenda\, anyone can show up at any
  time and ask questions.<br><br>Attendees are required to adhere to the LLV
 M Code of Conduct (<a href="https://llvm.org/docs/CodeOfConduct.html" targe
 t="_blank">https://llvm.org/docs/CodeOfConduct.html</a>). For any Code of C
 onduct reports for these office hours\, please email <a href="mailto:conduc
 t@llvm.org" target="_blank">conduct@llvm.org</a>.<br><u></u><br><br><u></u>
 Meeting happens on Google Meet at: <a href="https://meet.google.com/xok-iqn
 e-gmi" target="_blank">https://meet.google.com/xok-iqne-gmi</a><br> <br><pr
 e><code>discord-bot-event-type: office-hours</code><code> </code></pre><pre
 ><code>discord-bot-mention: @aaronballman</code></pre><pre><code>discord-bo
 t-channels-to-mention: #office-hours</code></pre><pre><code>discord-bot-rem
 inder-time-before-start: 30</code></pre><pre>discord-bot-message: Come join
  us at <span><a href="https://meet.google.com/xok-iqne-gmi" target="_blank"
 >https://meet.google.com/xok-iqne-gmi</a></span><code> </code></pre>\n\nJoi
 n with Google Meet: https://meet.google.com/xok-iqne-gmi\n\nLearn more abou
 t Meet at: https://support.google.com/a/users/answer/9282720
LAST-MODIFIED:20260309T123659Z
LOCATION:Google Meet
SEQUENCE:0
STATUS:CONFIRMED
SUMMARY:Aaron Ballman's Clang Office Hours
TRANSP:OPAQUE
END:VEVENT
BEGIN:VEVENT
DTSTART;TZID=America/New_York:20250627T100000
DTEND;TZID=America/New_York:20250627T110000
DTSTAMP:20260424T041053Z
UID:07l7equf8v13bmkrqsdomdpfpf@google.com
RECURRENCE-ID;TZID=America/New_York:20250620T100000
CREATED:20230508T190449Z
DESCRIPTION:Office hours for discussions about topics in Clang in general\,
  as well as clang-tidy\, clang-query\, AST matchers\, or anything else you'
 d like to chat about. There is no agenda\, anyone can show up at any time a
 nd ask questions.<br><br>Attendees are required to adhere to the LLVM Code 
 of Conduct (<a href="https://llvm.org/docs/CodeOfConduct.html" target="_bla
 nk"><u>https://llvm.org/docs/CodeOfConduct.html</u></a>). For any Code of C
 onduct reports for these office hours\, please email <a href="mailto:conduc
 t@llvm.org" target="_blank"><u>conduct@llvm.org</u></a>.<br><br>Meeting hap
 pens on Google Meet at: <a href="https://meet.google.com/xok-iqne-gmi" targ
 et="_blank"><u>https://meet.google.com/xok-iqne-gmi</u></a><u> </u><br><u><
 br></u><br><span><pre><code>discord-bot-event-type: office-hours</code><cod
 e> </code></pre><pre><code>discord-bot-mention: @aaronballman</code></pre><
 pre><code>discord-bot-channels-to-mention: #office-hours</code></pre><pre><
 code>discord-bot-reminder-time-before-start: 30</code></pre><pre>discord-bo
 t-message: Come join us at <span><a href="https://meet.google.com/xok-iqne-
 gmi" target="_blank">https://meet.google.com/xok-iqne-gmi</a></span></pre><
 /span>
LAST-MODIFIED:20251202T142319Z
SEQUENCE:1
STATUS:CONFIRMED
SUMMARY:Aaron Ballman's Clang Office Hours
TRANSP:OPAQUE
END:VEVENT
BEGIN:VEVENT
DTSTART;TZID=America/New_York:20220912T100000
DTEND;TZID=America/New_York:20220912T103000
RRULE:FREQ=MONTHLY;UNTIL=20260112T045959Z;BYDAY=2MO
EXDATE;TZID=America/New_York:20221212T100000
EXDATE;TZID=America/New_York:20230612T100000
EXDATE;TZID=America/New_York:20231211T100000
EXDATE;TZID=America/New_York:20240610T100000
EXDATE;TZID=America/New_York:20240909T100000
EXDATE;TZID=America/New_York:20250210T100000
EXDATE;TZID=America/New_York:20250310T100000
EXDATE;TZID=America/New_York:20250908T100000
DTSTAMP:20260424T041053Z
UID:5q0urqlc3tunu01q70o3hdkuol_R20220912T140000@google.com
X-GOOGLE-CONFERENCE:https://meet.google.com/xok-iqne-gmi
CREATED:20220223T130437Z
DESCRIPTION:<u></u>Office hours for discussions about topics in Clang in ge
 neral\, as well as clang-tidy\, clang-query\, AST matchers\, or anything el
 se you'd like to chat about. There is no agenda\, anyone can show up at any
  time and ask questions.<br><br>Attendees are required to adhere to the LLV
 M Code of Conduct (<a href="https://llvm.org/docs/CodeOfConduct.html" targe
 t="_blank">https://llvm.org/docs/CodeOfConduct.html</a>). For any Code of C
 onduct reports for these office hours\, please email <a href="mailto:conduc
 t@llvm.org" target="_blank">conduct@llvm.org</a>.<br><u></u><br><br><u></u>
 Meeting happens on Google Meet at: <a href="https://meet.google.com/xok-iqn
 e-gmi" target="_blank">https://meet.google.com/xok-iqne-gmi</a><br> <br><pr
 e><code>discord-bot-event-type: office-hours</code><code> </code></pre><pre
 ><code>discord-bot-mention: @aaronballman</code></pre><pre><code>discord-bo
 t-channels-to-mention: #office-hours</code></pre><pre><code>discord-bot-rem
 inder-time-before-start: 30</code></pre><pre>discord-bot-message: Come join
  us at <span><a href="https://meet.google.com/xok-iqne-gmi" target="_blank"
 >https://meet.google.com/xok-iqne-gmi</a></span><code> </code></pre>\n\nJoi
 n with Google Meet: https://meet.google.com/xok-iqne-gmi\n\nLearn more abou
 t Meet at: https://support.google.com/a/users/answer/9282720
LAST-MODIFIED:20260309T123659Z
LOCATION:Google Meet
SEQUENCE:0
STATUS:CONFIRMED
SUMMARY:Aaron Ballman's Clang Office Hours
TRANSP:OPAQUE
END:VEVENT
BEGIN:VEVENT
DTSTART;TZID=America/New_York:20250627T140000
DTEND;TZID=America/New_York:20250627T150000
DTSTAMP:20260424T041053Z
UID:090mo1jfo66s47e0bqd3u1rapb@google.com
RECURRENCE-ID;TZID=America/New_York:20250620T140000
CREATED:20230508T190523Z
DESCRIPTION:Office hours for discussions about topics in Clang in general\,
  as well as clang-tidy\, clang-query\, AST matchers\, or anything else you'
 d like to chat about. There is no agenda\, anyone can show up at any time a
 nd ask questions.<br><br>Attendees are required to adhere to the LLVM Code 
 of Conduct (<a href="https://llvm.org/docs/CodeOfConduct.html" target="_bla
 nk"><u>https://llvm.org/docs/CodeOfConduct.html</u></a>). For any Code of C
 onduct reports for these office hours\, please email <a href="mailto:conduc
 t@llvm.org" target="_blank"><u>conduct@llvm.org</u></a>.<br><br><u></u>Meet
 ing happens on Google Meet at: <a href="https://meet.google.com/xok-iqne-gm
 i" target="_blank"><u>https://meet.google.com/xok-iqne-gmi</u></a><br><span
 ><pre><code>discord-bot-event-type: office-hours</code><code> </code></pre>
 <pre><code>discord-bot-mention: @aaronballman</code></pre><pre><code>discor
 d-bot-channels-to-mention: #office-hours</code></pre><pre><code>discord-bot
 -reminder-time-before-start: 30</code></pre><pre>discord-bot-message: Come 
 join us at <span><a href="https://meet.google.com/xok-iqne-gmi" target="_bl
 ank">https://meet.google.com/xok-iqne-gmi</a></span></pre></span><u><br></u
 >
LAST-MODIFIED:20251202T142326Z
SEQUENCE:1
STATUS:CONFIRMED
SUMMARY:Aaron Ballman's Clang Office Hours
TRANSP:OPAQUE
END:VEVENT
BEGIN:VEVENT
DTSTART;TZID=America/New_York:20221114T140000
DTEND;TZID=America/New_York:20221114T143000
RRULE:FREQ=MONTHLY;UNTIL=20250811T035959Z;BYDAY=2MO
EXDATE;TZID=America/New_York:20221212T140000
EXDATE;TZID=America/New_York:20231211T140000
EXDATE;TZID=America/New_York:20240408T140000
EXDATE;TZID=America/New_York:20240610T140000
EXDATE;TZID=America/New_York:20241014T140000
DTSTAMP:20260424T041053Z
UID:3d8hturffp7qcrhhgpvnssoajq@google.com
CREATED:20221018T132405Z
DESCRIPTION:<u></u>Office hours for discussions about topics in Clang in ge
 neral\, as well as clang-tidy\, clang-query\, AST matchers\, or anything el
 se you'd like to chat about. There is no agenda\, anyone can show up at any
  time and ask questions.<br><br>Attendees are required to adhere to the LLV
 M Code of Conduct (<a href="https://llvm.org/docs/CodeOfConduct.html" targe
 t="_blank"><u>https://llvm.org/docs/CodeOfConduct.html</u></a>). For any Co
 de of Conduct reports for these office hours\, please email <a href="mailto
 :conduct@llvm.org" target="_blank"><u>conduct@llvm.org</u></a>.<br><br>Meet
 ing happens on Google Meet at:<br><a href="https://meet.google.com/xok-iqne
 -gmi" target="_blank">https://meet.google.com/xok-iqne-gmi</a><span><pre><s
 pan><pre><code>discord-bot-event-type: office-hours</code><code> </code></p
 re><pre><code>discord-bot-mention: @aaronballman</code></pre><pre><code>dis
 cord-bot-channels-to-mention: #office-hours</code></pre><pre><code>discord-
 bot-reminder-time-before-start: 30</code></pre><pre>discord-bot-message: Co
 me join us at <span><a href="https://meet.google.com/xok-iqne-gmi" target="
 _blank">https://meet.google.com/xok-iqne-gmi</a></span></pre></span></pre><
 /span>
LAST-MODIFIED:20251006T194117Z
SEQUENCE:0
STATUS:CONFIRMED
SUMMARY:Aaron Ballman's Clang Office Hours
TRANSP:OPAQUE
END:VEVENT
BEGIN:VEVENT
DTSTART;TZID=America/New_York:20260112T140000
DTEND;TZID=America/New_York:20260112T150000
RRULE:FREQ=MONTHLY;BYDAY=2MO
DTSTAMP:20260424T041053Z
UID:j8k101ioeefmot3k81im999dbb_R20260112T190000@google.com
CREATED:20221018T132405Z
DESCRIPTION:<u></u>Office hours for discussions about topics in Clang in ge
 neral\, as well as clang-tidy\, clang-query\, AST matchers\, or anything el
 se you'd like to chat about. There is no agenda\, anyone can show up at any
  time and ask questions.<br><br>Attendees are required to adhere to the LLV
 M Code of Conduct (<a href="https://llvm.org/docs/CodeOfConduct.html" targe
 t="_blank"><u>https://llvm.org/docs/CodeOfConduct.html</u></a>). For any Co
 de of Conduct reports for these office hours\, please email <a href="mailto
 :conduct@llvm.org" target="_blank"><u>conduct@llvm.org</u></a>.<br><br>Meet
 ing happens on Google Meet at:<br><a href="https://meet.google.com/xok-iqne
 -gmi" target="_blank">https://meet.google.com/xok-iqne-gmi</a><span><pre><s
 pan><pre><code>discord-bot-event-type: office-hours</code><code> </code></p
 re><pre><code>discord-bot-mention: @aaronballman</code></pre><pre><code>dis
 cord-bot-channels-to-mention: #office-hours</code></pre><pre><code>discord-
 bot-reminder-time-before-start: 30</code></pre><pre>discord-bot-message: Co
 me join us at <span><a href="https://meet.google.com/xok-iqne-gmi" target="
 _blank">https://meet.google.com/xok-iqne-gmi</a></span></pre></span></pre><
 /span>
LAST-MODIFIED:20260112T193327Z
SEQUENCE:1
STATUS:CONFIRMED
SUMMARY:Aaron Ballman's Clang Office Hours
TRANSP:OPAQUE
END:VEVENT
BEGIN:VEVENT
DTSTART;TZID=America/New_York:20250811T140000
DTEND;TZID=America/New_York:20250811T143000
RRULE:FREQ=MONTHLY;UNTIL=20260112T045959Z;BYDAY=2MO
DTSTAMP:20260424T041053Z
UID:j8k101ioeefmot3k81im999dbb@google.com
CREATED:20221018T132405Z
DESCRIPTION:<u></u>Office hours for discussions about topics in Clang in ge
 neral\, as well as clang-tidy\, clang-query\, AST matchers\, or anything el
 se you'd like to chat about. There is no agenda\, anyone can show up at any
  time and ask questions.<br><br>Attendees are required to adhere to the LLV
 M Code of Conduct (<a href="https://llvm.org/docs/CodeOfConduct.html" targe
 t="_blank"><u>https://llvm.org/docs/CodeOfConduct.html</u></a>). For any Co
 de of Conduct reports for these office hours\, please email <a href="mailto
 :conduct@llvm.org" target="_blank"><u>conduct@llvm.org</u></a>.<br><br>Meet
 ing happens on Google Meet at:<br><a href="https://meet.google.com/xok-iqne
 -gmi" target="_blank">https://meet.google.com/xok-iqne-gmi</a><span><pre><s
 pan><pre><code>discord-bot-event-type: office-hours</code><code> </code></p
 re><pre><code>discord-bot-mention: @aaronballman</code></pre><pre><code>dis
 cord-bot-channels-to-mention: #office-hours</code></pre><pre><code>discord-
 bot-reminder-time-before-start: 30</code></pre><pre>discord-bot-message: Co
 me join us at <span><a href="https://meet.google.com/xok-iqne-gmi" target="
 _blank">https://meet.google.com/xok-iqne-gmi</a></span></pre></span></pre><
 /span>
LAST-MODIFIED:20260112T193327Z
SEQUENCE:1
STATUS:CONFIRMED
SUMMARY:Aaron Ballman's Clang Office Hours
TRANSP:OPAQUE
END:VEVENT
END:VCALENDAR
